BEGIN:VCALENDAR
VERSION:2.0
PRODID:-//Heilig Landstichting - ECPv6.15.20//NONSGML v1.0//EN
CALSCALE:GREGORIAN
METHOD:PUBLISH
X-WR-CALNAME:Heilig Landstichting
X-ORIGINAL-URL:https://dorpsverenigingheiliglandstichting.nl
X-WR-CALDESC:Evenementen voor Heilig Landstichting
REFRESH-INTERVAL;VALUE=DURATION:PT1H
X-Robots-Tag:noindex
X-PUBLISHED-TTL:PT1H
BEGIN:VTIMEZONE
TZID:Europe/Amsterdam
BEGIN:DAYLIGHT
TZOFFSETFROM:+0100
TZOFFSETTO:+0200
TZNAME:CEST
DTSTART:20240331T010000
END:DAYLIGHT
BEGIN:STANDARD
TZOFFSETFROM:+0200
TZOFFSETTO:+0100
TZNAME:CET
DTSTART:20241027T010000
END:STANDARD
BEGIN:DAYLIGHT
TZOFFSETFROM:+0100
TZOFFSETTO:+0200
TZNAME:CEST
DTSTART:20250330T010000
END:DAYLIGHT
BEGIN:STANDARD
TZOFFSETFROM:+0200
TZOFFSETTO:+0100
TZNAME:CET
DTSTART:20251026T010000
END:STANDARD
BEGIN:DAYLIGHT
TZOFFSETFROM:+0100
TZOFFSETTO:+0200
TZNAME:CEST
DTSTART:20260329T010000
END:DAYLIGHT
BEGIN:STANDARD
TZOFFSETFROM:+0200
TZOFFSETTO:+0100
TZNAME:CET
DTSTART:20261025T010000
END:STANDARD
END:VTIMEZONE
BEGIN:VEVENT
DTSTART;TZID=Europe/Amsterdam:20250605T170000
DTEND;TZID=Europe/Amsterdam:20250605T180000
DTSTAMP:20260419T233300
CREATED:20250526T074537Z
LAST-MODIFIED:20250526T074537Z
UID:10001300-1749142800-1749146400@dorpsverenigingheiliglandstichting.nl
SUMMARY:5 juni: Proefles Tai Chi - Qigong
DESCRIPTION:ALTIJD AL NIEUWSGIERIG GEWEEST NAAR TAI CHI Of QIGONG? \nDeze Chinese bewegingsleer is al eeuwen oud en wordt nog steeds in het oosten en sinds de jaren 60 vorige eeuw\, hier in het Westen beoefend. Het zijn langzame bewegingen waardoor je conditie opbouwt en je spieren soepel worden. De bewegingen kunnen aan je eigen lichaamsmogelijkheden worden aangepast. Dus ook als je een blessure of klachten hebt is het goed om Tai Chi – Qigong te beoefenen. \nDoe mee met Tai Chi – Qigong voor meer ontspanning in je lichaam en meer rust in je hoofd. \nVereniging 50Plus Heilig Landstichting overweegt in het najaar de training aan te bieden als uitbreiding op reeds lopende trainingen. Om de belangstelling te peilen wordt op donderdag 5 juni om 17.00 uur een proefles gegeven in ‘de Bosduivel’. \nWil je meedoen aan deze proefles? Maak dan € 5\,00 over op rekening NL40 RABO 0117424528  t.n.v. Vereniging 50Plus Heilig Landstichting\, onder vermelding van proefles Tai Chi.
URL:https://dorpsverenigingheiliglandstichting.nl/event/5-juni-proefles-tai-chi-qigong/
LOCATION:Dorpshuis De Bosduivel\, Joanneslaan 4\, HLS
ATTACH;FMTTYPE=image/jpeg:https://dorpsverenigingheiliglandstichting.nl/wp-content/uploads/2025/05/tai-chi-6.webp
ORGANIZER;CN="Vereniging 50 Plus Heilig Landstichting":MAILTO:kbo.hls3@gmail.com
END:VEVENT
BEGIN:VEVENT
DTSTART;VALUE=DATE:20250521
DTEND;VALUE=DATE:20250522
DTSTAMP:20260419T233300
CREATED:20240826T120711Z
LAST-MODIFIED:20250116T143007Z
UID:10001160-1747785600-1747871999@dorpsverenigingheiliglandstichting.nl
SUMMARY:Natuurwandeling met het Bosduiveltje
DESCRIPTION:Natuurwandeling met het Bosduiveltje\nDoorgaans organiseren we 8 wandelingen per jaar op de 3e woensdag van de maand. We wandelen vooral om de mooie natuur in de wijde omgeving van Heilig Landstichting te ontdekken onder leiding van natuurgidsen. We verzamelen om 09.30 u voor de Bosduivel om te carpoolen. Rond 12.30 u zijn we weer terug. De wandelingen zijn 3-4 km lang\, met veel oog voor natuur en cultuur. De kosten zijn €35\,- voor 8 wandelingen\, of €5\,- per wandeling. \n21 mei: Naar de Gendtse Waard. We wandelen door de ongerepte natuur van ooibossen\, moerassen\, bloemrijke graslanden en natuurlijk het “Dijk van een Wijf”. \n\nKlik hier voor informatie over het wandelprogramma \n\nKlik hier om je aan te melden bij Helen van der Ven
URL:https://dorpsverenigingheiliglandstichting.nl/event/natuurwandeling-met-het-bosduiveltje-7/
LOCATION:Dorpshuis De Bosduivel\, Joanneslaan 4\, HLS
CATEGORIES:Activiteiten,clubs en verenigingen,Dorpsagenda,In en om ons dorp
ATTACH;FMTTYPE=image/jpeg:https://dorpsverenigingheiliglandstichting.nl/wp-content/uploads/2024/08/IMG_9410-2.jpg
END:VEVENT
BEGIN:VEVENT
DTSTART;TZID=Europe/Amsterdam:20250516T193000
DTEND;TZID=Europe/Amsterdam:20250516T213000
DTSTAMP:20260419T233300
CREATED:20250417T071849Z
LAST-MODIFIED:20250514T184017Z
UID:10001251-1747423800-1747431000@dorpsverenigingheiliglandstichting.nl
SUMMARY:Woonwijzer bijeenkomst "Verduurzamen Dichtbij"
DESCRIPTION:Tijdens deze bijeenkomst hoor je uit eerste hand hoe je kunt starten met verduurzamen – en wat daarbij komt kijken. Dorpsgenoot en energiecoach Peer Trepels deelt zijn ervaringen en deskundigheid en geeft praktische tips\, waar je direct mee aan de slag kunt. Ook dorpsgenoot Pieter Smit vertelt over zijn eigen ondervindingen: wat werkte goed\, waar liep hij tegenaan\, en wat leerde hij gaandeweg? Er is volop ruimte om vragen te stellen en met elkaar in gesprek te gaan. Of je nu starter bent of al verder bent met verduurzamen – je bent van harte welkom!\nLaat hier je gegevens en eventuele vragen achter.\n\n[fluentform id=”3″]
URL:https://dorpsverenigingheiliglandstichting.nl/event/woonwijzer-verduurzamen-dichtbij/
LOCATION:Dorpshuis De Bosduivel\, Joanneslaan 4\, HLS
CATEGORIES:Activiteiten,Dorpsagenda,In en om ons dorp
ATTACH;FMTTYPE=image/png:https://dorpsverenigingheiliglandstichting.nl/wp-content/uploads/2025/04/peer-en-pieter-png.webp
ORGANIZER;CN="Woonwijzer":MAILTO:woonwijzer@bergendal.nl
END:VEVENT
BEGIN:VEVENT
DTSTART;TZID=Europe/Amsterdam:20250516T170000
DTEND;TZID=Europe/Amsterdam:20250516T190000
DTSTAMP:20260419T233300
CREATED:20250116T145033Z
LAST-MODIFIED:20250209T085824Z
UID:10001283-1747414800-1747422000@dorpsverenigingheiliglandstichting.nl
SUMMARY:Bosduivelcafé
DESCRIPTION:Tijdens de geslaagde Nieuwe-bewoners-borrel van 17 november in de Bosduivel ontstond het idee om wat vaker een ‘happy hour’ te organiseren. We willen dit graag doen op de derde vrijdag van de maand\, van 17:00 tot 19:00 uur onder de vlag: BosduivelcaféGeen thema\, geen reserveringen\, gewoon gezellig samen de week afsluiten met een drankje en een nootje\, iedereen van harte welkom.\nDe organisatie is in handen van Silvo Meulendijk en Hans Vemer. Aanhakers zijn altijd welkom.
URL:https://dorpsverenigingheiliglandstichting.nl/event/bosduivelcafe-2025-04-11/2025-05-16/
LOCATION:Dorpshuis De Bosduivel\, Joanneslaan 4\, HLS
CATEGORIES:Activiteiten,clubs en verenigingen,Dorpsagenda,In en om ons dorp
ATTACH;FMTTYPE=image/jpeg:https://dorpsverenigingheiliglandstichting.nl/wp-content/uploads/2025/01/IMG_4898.webp
ORGANIZER;CN="Hans Vemer":MAILTO:hansvemer@me.com
END:VEVENT
BEGIN:VEVENT
DTSTART;TZID=Europe/Amsterdam:20250426T110000
DTEND;TZID=Europe/Amsterdam:20250426T130000
DTSTAMP:20260419T233300
CREATED:20250220T092558Z
LAST-MODIFIED:20250222T083451Z
UID:10000903-1745665200-1745672400@dorpsverenigingheiliglandstichting.nl
SUMMARY:9de Lanentournooi Petanque
DESCRIPTION:Negende Lanentournooi op Koningsdag\nOp Koningsdag wordt voor de negende keer het Lanentournooi georganiseerd door Bert Peters en Henk Bongers. \nVanaf 11:00 uur ben je welkom bij de Petanquebaan aan de Rechterslaan om de eer van jouw laan te verdedigen. \nWij starten met de wedstrijd rond 11 uur\, met als wedstrijdleider Henk Bongers die voorafgaand de spelregels toelicht. \nRond 13 uur is het meestal afgelopen. \nJe kunt je als team van drie spelers aanmelden bij Bert Peters \nDe Dorpsvereniging zorgt voor koffie/thee met iets lekkers en uiteraard een Oranjebitter.
URL:https://dorpsverenigingheiliglandstichting.nl/event/8ste-lanentournooi/
LOCATION:Speeltuin Heilig Landstichting\, Profetenlaan\, Heilig Landstichting
CATEGORIES:Activiteiten,In en om ons dorp
ATTACH;FMTTYPE=image/jpeg:https://dorpsverenigingheiliglandstichting.nl/wp-content/uploads/2019/10/boule-2351201_640.jpg
ORGANIZER;CN="Bert Peters":MAILTO:bertpeters@lijbrandt.nl
END:VEVENT
END:VCALENDAR