BEGIN:VCALENDAR
VERSION:2.0
PRODID:-//Heilig Landstichting - ECPv6.15.20//NONSGML v1.0//EN
CALSCALE:GREGORIAN
METHOD:PUBLISH
X-WR-CALNAME:Heilig Landstichting
X-ORIGINAL-URL:https://dorpsverenigingheiliglandstichting.nl
X-WR-CALDESC:Evenementen voor Heilig Landstichting
REFRESH-INTERVAL;VALUE=DURATION:PT1H
X-Robots-Tag:noindex
X-PUBLISHED-TTL:PT1H
BEGIN:VTIMEZONE
TZID:Europe/Amsterdam
BEGIN:DAYLIGHT
TZOFFSETFROM:+0100
TZOFFSETTO:+0200
TZNAME:CEST
DTSTART:20240331T010000
END:DAYLIGHT
BEGIN:STANDARD
TZOFFSETFROM:+0200
TZOFFSETTO:+0100
TZNAME:CET
DTSTART:20241027T010000
END:STANDARD
BEGIN:DAYLIGHT
TZOFFSETFROM:+0100
TZOFFSETTO:+0200
TZNAME:CEST
DTSTART:20250330T010000
END:DAYLIGHT
BEGIN:STANDARD
TZOFFSETFROM:+0200
TZOFFSETTO:+0100
TZNAME:CET
DTSTART:20251026T010000
END:STANDARD
BEGIN:DAYLIGHT
TZOFFSETFROM:+0100
TZOFFSETTO:+0200
TZNAME:CEST
DTSTART:20260329T010000
END:DAYLIGHT
BEGIN:STANDARD
TZOFFSETFROM:+0200
TZOFFSETTO:+0100
TZNAME:CET
DTSTART:20261025T010000
END:STANDARD
END:VTIMEZONE
BEGIN:VEVENT
DTSTART;TZID=Europe/Amsterdam:20250426T110000
DTEND;TZID=Europe/Amsterdam:20250426T130000
DTSTAMP:20260420T202431
CREATED:20250220T092558Z
LAST-MODIFIED:20250222T083451Z
UID:10000903-1745665200-1745672400@dorpsverenigingheiliglandstichting.nl
SUMMARY:9de Lanentournooi Petanque
DESCRIPTION:Negende Lanentournooi op Koningsdag\nOp Koningsdag wordt voor de negende keer het Lanentournooi georganiseerd door Bert Peters en Henk Bongers. \nVanaf 11:00 uur ben je welkom bij de Petanquebaan aan de Rechterslaan om de eer van jouw laan te verdedigen. \nWij starten met de wedstrijd rond 11 uur\, met als wedstrijdleider Henk Bongers die voorafgaand de spelregels toelicht. \nRond 13 uur is het meestal afgelopen. \nJe kunt je als team van drie spelers aanmelden bij Bert Peters \nDe Dorpsvereniging zorgt voor koffie/thee met iets lekkers en uiteraard een Oranjebitter.
URL:https://dorpsverenigingheiliglandstichting.nl/event/8ste-lanentournooi/
LOCATION:Speeltuin Heilig Landstichting\, Profetenlaan\, Heilig Landstichting
CATEGORIES:Activiteiten,In en om ons dorp
ATTACH;FMTTYPE=image/jpeg:https://dorpsverenigingheiliglandstichting.nl/wp-content/uploads/2019/10/boule-2351201_640.jpg
ORGANIZER;CN="Bert Peters":MAILTO:bertpeters@lijbrandt.nl
END:VEVENT
END:VCALENDAR