BEGIN:VCALENDAR
VERSION:2.0
PRODID:-//Heilig Landstichting - ECPv6.15.20//NONSGML v1.0//EN
CALSCALE:GREGORIAN
METHOD:PUBLISH
X-WR-CALNAME:Heilig Landstichting
X-ORIGINAL-URL:https://dorpsverenigingheiliglandstichting.nl
X-WR-CALDESC:Evenementen voor Heilig Landstichting
REFRESH-INTERVAL;VALUE=DURATION:PT1H
X-Robots-Tag:noindex
X-PUBLISHED-TTL:PT1H
BEGIN:VTIMEZONE
TZID:Europe/Amsterdam
BEGIN:DAYLIGHT
TZOFFSETFROM:+0100
TZOFFSETTO:+0200
TZNAME:CEST
DTSTART:20240331T010000
END:DAYLIGHT
BEGIN:STANDARD
TZOFFSETFROM:+0200
TZOFFSETTO:+0100
TZNAME:CET
DTSTART:20241027T010000
END:STANDARD
BEGIN:DAYLIGHT
TZOFFSETFROM:+0100
TZOFFSETTO:+0200
TZNAME:CEST
DTSTART:20250330T010000
END:DAYLIGHT
BEGIN:STANDARD
TZOFFSETFROM:+0200
TZOFFSETTO:+0100
TZNAME:CET
DTSTART:20251026T010000
END:STANDARD
BEGIN:DAYLIGHT
TZOFFSETFROM:+0100
TZOFFSETTO:+0200
TZNAME:CEST
DTSTART:20260329T010000
END:DAYLIGHT
BEGIN:STANDARD
TZOFFSETFROM:+0200
TZOFFSETTO:+0100
TZNAME:CET
DTSTART:20261025T010000
END:STANDARD
END:VTIMEZONE
BEGIN:VEVENT
DTSTART;TZID=Europe/Amsterdam:20251103T200000
DTEND;TZID=Europe/Amsterdam:20251103T220000
DTSTAMP:20260419T205842
CREATED:20251011T080940Z
LAST-MODIFIED:20251011T080940Z
UID:10000908-1762200000-1762207200@dorpsverenigingheiliglandstichting.nl
SUMMARY:SCIENCE CAFÉ: over genetische diagnostiek bij mensen met een verstandelijke beperking.
DESCRIPTION:Klinisch geneticus Saskia Koene vertelt over genetische diagnostiek bij mensen met een verstandelijke beperking en wat een dergelijke uitslag voor mensen kan betekenen. Ook zal zij kort de laatste ontwikkelingen op het gebied van gezichtsanalyse en therapie aanstippen. \nKlik hier voor meer informatie een aanmelden.
URL:https://dorpsverenigingheiliglandstichting.nl/event/science-cafe-over-genetische-diagnostiek-bij-mensen-met-een-verstandelijke-beperking/
LOCATION:Dorpshuis De Bosduivel\, Joanneslaan 4\, HLS
CATEGORIES:Activiteiten,Dorpsagenda,In en om ons dorp,Oorschelp
ATTACH;FMTTYPE=image/png:https://dorpsverenigingheiliglandstichting.nl/wp-content/uploads/2025/03/science-png-e1742556399428.webp
ORGANIZER;CN="marga van Schalkwijk":MAILTO:mvsgarden@hotmail.com
END:VEVENT
END:VCALENDAR