BEGIN:VCALENDAR
VERSION:2.0
PRODID:-//Heilig Landstichting - ECPv6.15.20//NONSGML v1.0//EN
CALSCALE:GREGORIAN
METHOD:PUBLISH
X-WR-CALNAME:Heilig Landstichting
X-ORIGINAL-URL:https://dorpsverenigingheiliglandstichting.nl
X-WR-CALDESC:Evenementen voor Heilig Landstichting
REFRESH-INTERVAL;VALUE=DURATION:PT1H
X-Robots-Tag:noindex
X-PUBLISHED-TTL:PT1H
BEGIN:VTIMEZONE
TZID:Europe/Amsterdam
BEGIN:DAYLIGHT
TZOFFSETFROM:+0100
TZOFFSETTO:+0200
TZNAME:CEST
DTSTART:20250330T010000
END:DAYLIGHT
BEGIN:STANDARD
TZOFFSETFROM:+0200
TZOFFSETTO:+0100
TZNAME:CET
DTSTART:20251026T010000
END:STANDARD
BEGIN:DAYLIGHT
TZOFFSETFROM:+0100
TZOFFSETTO:+0200
TZNAME:CEST
DTSTART:20260329T010000
END:DAYLIGHT
BEGIN:STANDARD
TZOFFSETFROM:+0200
TZOFFSETTO:+0100
TZNAME:CET
DTSTART:20261025T010000
END:STANDARD
BEGIN:DAYLIGHT
TZOFFSETFROM:+0100
TZOFFSETTO:+0200
TZNAME:CEST
DTSTART:20270328T010000
END:DAYLIGHT
BEGIN:STANDARD
TZOFFSETFROM:+0200
TZOFFSETTO:+0100
TZNAME:CET
DTSTART:20271031T010000
END:STANDARD
END:VTIMEZONE
BEGIN:VEVENT
DTSTART;TZID=Europe/Amsterdam:20260617T093000
DTEND;TZID=Europe/Amsterdam:20260617T123000
DTSTAMP:20260420T175511
CREATED:20240826T120944Z
LAST-MODIFIED:20260117T152650Z
UID:10001702-1781688600-1781699400@dorpsverenigingheiliglandstichting.nl
SUMMARY:Natuurwandeling met het Bosduiveltje
DESCRIPTION:Natuurwandeling met het Bosduiveltje\nWe wandelen vooral om de mooie natuur in de wijde omgeving van Heilig Landstichting te ontdekken onder leiding van natuurgidsen. We verzamelen om 09.30 u voor de Bosduivel om te carpoolen. Rond 12.30 u zijn we weer terug. De wandelingen zijn 3-4 km lang\, met veel oog voor natuur en cultuur. \n\nKlik hier voor informatie over het wandelprogramma \n\nKlik hier om je aan te melden bij Helen van der Ven
URL:https://dorpsverenigingheiliglandstichting.nl/event/natuurwandeling-met-het-bosduiveltje-8/2026-06-17/
LOCATION:Dorpshuis De Bosduivel\, Joanneslaan 4\, HLS
CATEGORIES:Activiteiten,clubs en verenigingen,Dorpsagenda,In en om ons dorp
ATTACH;FMTTYPE=image/jpeg:https://dorpsverenigingheiliglandstichting.nl/wp-content/uploads/2024/08/IMG_9410-2.jpg
END:VEVENT
BEGIN:VEVENT
DTSTART;TZID=Europe/Amsterdam:20260618T193000
DTEND;TZID=Europe/Amsterdam:20260618T223000
DTSTAMP:20260420T175511
CREATED:20260129T123944Z
LAST-MODIFIED:20260129T124257Z
UID:10001747-1781811000-1781821800@dorpsverenigingheiliglandstichting.nl
SUMMARY:Nijmeegs Kamerkoor
DESCRIPTION:Op donderdag s’avonds repeteert het Nijmeegs kamerkoor in de Bosduivel.In de loop van het jaar geven zij een (gratis) concert. \nOp het programma staan hedendaagse en 17de -eeuwse Nederlandse componisten en Engelse en Franse Madrigalen uit de 16de eeuw. Het koor staat onder leiding van Gonny van der Maten. \nMeer informatie
URL:https://dorpsverenigingheiliglandstichting.nl/event/concert-nijmeegs-kamerkoor-2/2026-06-18/
LOCATION:Dorpshuis De Bosduivel (Zaal 3)
CATEGORIES:Activiteiten,clubs en verenigingen,Dorpsagenda,In en om ons dorp
ATTACH;FMTTYPE=image/jpeg:https://dorpsverenigingheiliglandstichting.nl/wp-content/uploads/2024/05/635-gf-2-1024x641-1.jpg
END:VEVENT
BEGIN:VEVENT
DTSTART;TZID=Europe/Amsterdam:20260619T170000
DTEND;TZID=Europe/Amsterdam:20260619T190000
DTSTAMP:20260420T175511
CREATED:20260101T113945Z
LAST-MODIFIED:20260129T132908Z
UID:10001306-1781888400-1781895600@dorpsverenigingheiliglandstichting.nl
SUMMARY:Bosduivelcafé
DESCRIPTION:Elke derde vrijdag van de maand\, van 17:00 tot 19:00 uur is er een happy hour in de bar van de Bosduivel onder de vlag: BosduivelcaféGeen thema\, geen reserveringen\, gewoon gezellig samen de week afsluiten met een drankje\, een nootje\, en hartige snacks. Wij streven ernaar om het Bosduivelcafé te combineren met andere evenementen op het vlak van cultuur\, gezelligheid en contacten.\n\nIedereen van harte welkom.\nDe organisatie is in handen van Silvo Meulendijk en Hans Vemer. Aanhakers zijn altijd welkom.
URL:https://dorpsverenigingheiliglandstichting.nl/event/27051/2026-06-19/
LOCATION:Café HLS\, Dorpshuis De Bosduivel\, Café
CATEGORIES:Activiteiten,Dorpsagenda,In en om ons dorp
ATTACH;FMTTYPE=image/jpeg:https://dorpsverenigingheiliglandstichting.nl/wp-content/uploads/2025/01/IMG_4898.webp
ORGANIZER;CN="Silvo Meulendijk":MAILTO:smeulendijk@hotmail.com
END:VEVENT
END:VCALENDAR