BEGIN:VCALENDAR
VERSION:2.0
PRODID:-//Heilig Landstichting - ECPv6.15.20//NONSGML v1.0//EN
CALSCALE:GREGORIAN
METHOD:PUBLISH
X-ORIGINAL-URL:https://dorpsverenigingheiliglandstichting.nl
X-WR-CALDESC:Evenementen voor Heilig Landstichting
REFRESH-INTERVAL;VALUE=DURATION:PT1H
X-Robots-Tag:noindex
X-PUBLISHED-TTL:PT1H
BEGIN:VTIMEZONE
TZID:Europe/Amsterdam
BEGIN:DAYLIGHT
TZOFFSETFROM:+0100
TZOFFSETTO:+0200
TZNAME:CEST
DTSTART:20250330T010000
END:DAYLIGHT
BEGIN:STANDARD
TZOFFSETFROM:+0200
TZOFFSETTO:+0100
TZNAME:CET
DTSTART:20251026T010000
END:STANDARD
BEGIN:DAYLIGHT
TZOFFSETFROM:+0100
TZOFFSETTO:+0200
TZNAME:CEST
DTSTART:20260329T010000
END:DAYLIGHT
BEGIN:STANDARD
TZOFFSETFROM:+0200
TZOFFSETTO:+0100
TZNAME:CET
DTSTART:20261025T010000
END:STANDARD
BEGIN:DAYLIGHT
TZOFFSETFROM:+0100
TZOFFSETTO:+0200
TZNAME:CEST
DTSTART:20270328T010000
END:DAYLIGHT
BEGIN:STANDARD
TZOFFSETFROM:+0200
TZOFFSETTO:+0100
TZNAME:CET
DTSTART:20271031T010000
END:STANDARD
END:VTIMEZONE
BEGIN:VEVENT
DTSTART;TZID=Europe/Amsterdam:20260422T180000
DTEND;TZID=Europe/Amsterdam:20260422T200000
DTSTAMP:20260420T084100
CREATED:20260129T125749Z
LAST-MODIFIED:20260131T105203Z
UID:10001752-1776880800-1776888000@dorpsverenigingheiliglandstichting.nl
SUMMARY:WoonWijzer Heilig Landstichting
DESCRIPTION:WoonWijzer Heilig Landstichting\n\nNa de energie-enquête heeft die werkgroep Duurzaamheid gezocht naar mogelijkheden om kennis en ervaring over energie met elkaar te delen. \nWoonWijzer Heilig Landstichting is een team van energiecoaches en experts op het gebied van isoleren\, installeren en -op termijn- energie delen. Zij  brengen kennis\, ervaring\, capaciteit\, advies\, inspiratie en verbinding op gebied van energie en slim wonen bij elkaar\, zowel op de website als in de Bosduivel. Op 28 september 2024 werd WoonWijzer Heilig Landstichting gelanceerd door wethouder Irma van de Scheur. \nJe kunt op elke laatste woensdag van de maand tussen 18:00 en 20:00 u. terecht in de Bosduivel voor vragen en adviezen op gebied van slimmer wonen. Je kunt ook direct een afspraak maken met Peer Trepels – 06 42 81 45 87- of via woonwijzerhls@gmail.com \nMeer informatie over WoonWijzer HLS vind je HIER
URL:https://dorpsverenigingheiliglandstichting.nl/event/woonwijzer-heilig-landstichting-2/2026-04-22/
LOCATION:Dorpshuis De Bosduivel\, Joanneslaan 4\, HLS
CATEGORIES:Activiteiten,Dorpsagenda,Gemeente,In en om ons dorp
ATTACH;FMTTYPE=image/png:https://dorpsverenigingheiliglandstichting.nl/wp-content/uploads/2024/08/woonwijzer-logo-v3.png
END:VEVENT
BEGIN:VEVENT
DTSTART;TZID=Europe/Amsterdam:20260423T193000
DTEND;TZID=Europe/Amsterdam:20260423T223000
DTSTAMP:20260420T084100
CREATED:20260129T123944Z
LAST-MODIFIED:20260129T124257Z
UID:10001739-1776972600-1776983400@dorpsverenigingheiliglandstichting.nl
SUMMARY:Nijmeegs Kamerkoor
DESCRIPTION:Op donderdag s’avonds repeteert het Nijmeegs kamerkoor in de Bosduivel.In de loop van het jaar geven zij een (gratis) concert. \nOp het programma staan hedendaagse en 17de -eeuwse Nederlandse componisten en Engelse en Franse Madrigalen uit de 16de eeuw. Het koor staat onder leiding van Gonny van der Maten. \nMeer informatie
URL:https://dorpsverenigingheiliglandstichting.nl/event/concert-nijmeegs-kamerkoor-2/2026-04-23/
LOCATION:Dorpshuis De Bosduivel (Zaal 3)
CATEGORIES:Activiteiten,clubs en verenigingen,Dorpsagenda,In en om ons dorp
ATTACH;FMTTYPE=image/jpeg:https://dorpsverenigingheiliglandstichting.nl/wp-content/uploads/2024/05/635-gf-2-1024x641-1.jpg
END:VEVENT
BEGIN:VEVENT
DTSTART;TZID=Europe/Amsterdam:20260424T140000
DTEND;TZID=Europe/Amsterdam:20260424T160000
DTSTAMP:20260420T084100
CREATED:20260127T141312Z
LAST-MODIFIED:20260411T194251Z
UID:10001693-1777039200-1777046400@dorpsverenigingheiliglandstichting.nl
SUMMARY:Wandelen in en rond Heilig Landstichting
DESCRIPTION:Op 24 April leidt Wouter Helmer\, bioloog en bewoner\, ons rond op Landgoed Nieuwland. Hij kan je als geen ander alles vertellen over dit landgoed. \nOp het landgoed Nieuwland zijn eeuwenoude landschapselementen te vinden\, alsmede een parkaanleg uit het begin van de vorige eeuw. De vijf gezinnen die er wonen hebben de afgelopen 32 jaar gewerkt aan het herstel van deze historische structuren\, alsmede de omvorming van een 20e-eeuws productiebos naar een meer natuurlijker begraasd landschap. Dit heeft geleid tot een explosie van leven. Meer dan 3800 soorten planten en dieren zijn inmiddels op het landgoed aangetroffen. \nVertrek Bosduivel: 14.00. Na afloop drinken we thee/koffie in de Bosduivel. \nKosten: €3. Aanmelden: anneliesvgunst@gmail.com \nKlik hier voor het volledig programma.
URL:https://dorpsverenigingheiliglandstichting.nl/event/wandelen-in-en-rond-heilig-landstichting-3-5/
LOCATION:Dorpshuis De Bosduivel\, Joanneslaan 4\, HLS
CATEGORIES:Activiteiten,clubs en verenigingen,Dorpsagenda,In en om ons dorp
ATTACH;FMTTYPE=image/jpeg:https://dorpsverenigingheiliglandstichting.nl/wp-content/uploads/2020/05/boswandeling.jpg
ORGANIZER;CN="Annelies van Gunst":MAILTO:anneliesvgunst@gmail.com
END:VEVENT
BEGIN:VEVENT
DTSTART;TZID=Europe/Amsterdam:20260430T193000
DTEND;TZID=Europe/Amsterdam:20260430T223000
DTSTAMP:20260420T084100
CREATED:20260129T123944Z
LAST-MODIFIED:20260129T124257Z
UID:10001740-1777577400-1777588200@dorpsverenigingheiliglandstichting.nl
SUMMARY:Nijmeegs Kamerkoor
DESCRIPTION:Op donderdag s’avonds repeteert het Nijmeegs kamerkoor in de Bosduivel.In de loop van het jaar geven zij een (gratis) concert. \nOp het programma staan hedendaagse en 17de -eeuwse Nederlandse componisten en Engelse en Franse Madrigalen uit de 16de eeuw. Het koor staat onder leiding van Gonny van der Maten. \nMeer informatie
URL:https://dorpsverenigingheiliglandstichting.nl/event/concert-nijmeegs-kamerkoor-2/2026-04-30/
LOCATION:Dorpshuis De Bosduivel (Zaal 3)
CATEGORIES:Activiteiten,clubs en verenigingen,Dorpsagenda,In en om ons dorp
ATTACH;FMTTYPE=image/jpeg:https://dorpsverenigingheiliglandstichting.nl/wp-content/uploads/2024/05/635-gf-2-1024x641-1.jpg
END:VEVENT
END:VCALENDAR