BEGIN:VCALENDAR
VERSION:2.0
PRODID:-//Heilig Landstichting - ECPv6.15.20//NONSGML v1.0//EN
CALSCALE:GREGORIAN
METHOD:PUBLISH
X-ORIGINAL-URL:https://dorpsverenigingheiliglandstichting.nl
X-WR-CALDESC:Evenementen voor Heilig Landstichting
REFRESH-INTERVAL;VALUE=DURATION:PT1H
X-Robots-Tag:noindex
X-PUBLISHED-TTL:PT1H
BEGIN:VTIMEZONE
TZID:Europe/Amsterdam
BEGIN:DAYLIGHT
TZOFFSETFROM:+0100
TZOFFSETTO:+0200
TZNAME:CEST
DTSTART:20250330T010000
END:DAYLIGHT
BEGIN:STANDARD
TZOFFSETFROM:+0200
TZOFFSETTO:+0100
TZNAME:CET
DTSTART:20251026T010000
END:STANDARD
BEGIN:DAYLIGHT
TZOFFSETFROM:+0100
TZOFFSETTO:+0200
TZNAME:CEST
DTSTART:20260329T010000
END:DAYLIGHT
BEGIN:STANDARD
TZOFFSETFROM:+0200
TZOFFSETTO:+0100
TZNAME:CET
DTSTART:20261025T010000
END:STANDARD
BEGIN:DAYLIGHT
TZOFFSETFROM:+0100
TZOFFSETTO:+0200
TZNAME:CEST
DTSTART:20270328T010000
END:DAYLIGHT
BEGIN:STANDARD
TZOFFSETFROM:+0200
TZOFFSETTO:+0100
TZNAME:CET
DTSTART:20271031T010000
END:STANDARD
END:VTIMEZONE
BEGIN:VEVENT
DTSTART;TZID=Europe/Amsterdam:20260505T173000
DTEND;TZID=Europe/Amsterdam:20260505T203000
DTSTAMP:20260420T101535
CREATED:20260324T102343Z
LAST-MODIFIED:20260411T193343Z
UID:10001773-1778002200-1778013000@dorpsverenigingheiliglandstichting.nl
SUMMARY:5 mei: vrijheidssoep in "De Bosduivel"
DESCRIPTION:Kleurrijke vrijheidssoep\nWe kennen bijna allemaal de heerlijke jaargetijde dorpssoep van Christianne\, Dyonne en Tony. Daar wordt op 5 mei een soepfeest aan toegevoegd: de vrijheidssoep. \nIn de Bosduivel doen we graag mee met dit initiatief van het Nationaal Comité 4 en 5 mei.\nDit jaar heeft chef Janny van der Heijden het recept voor de jaarlijkse vrijheidssoep bedacht. Het is een speciale vegansoep en iedereen kan ter plekke zijn of haar eigen kleur eraan geven. ”Soep kan de verbinding zijn tussen culturen en generaties”\, aldus Janny.\nKom dus met z’n allen meegenieten van deze vrijheidssoep en ga tussen de happen door met elkaar in gesprek en ontdek elkaars kleurrijke wereld. Aan de eettafel ontmoet je nieuwe gezichten en veranderen onbekenden in bekenden.\nAanmelden kan tot en met 1 mei via de dorpswebsite. De kosten zijn € 5 per persoon. Kinderen eten gratis mee. \nMeld je hieronder aan (vanaf 1 april) \nNaam *E-mail *-- Selecteer een optie --\n                                Vrijheidssoep 1 persoon (€ 5\,00)\n                          \n                                Vrijheidssoep 2 personen (€ 10\,00)\n                          \n                                Vrijheidssoep 2 personen\, + 1 kind (€ 10\,00)\n                          \n                                Vrijheidssoep 2 personen\, + 2 kinderen of meer (€ 10\,00)\n                          \n                    Bedrag \n                        *\n                        € \n                         \n                        \n                    \n                    \n                   \n        Betaalmethode *\n            \n                                        \n                                             \n                                             \n                                            iDEAL | Wero\n                                        \n                                     \n                            Hierbij geef ik toestemming om het terugkerende bedrag periodiek van mijn rekening te incasseren.\n                         Versturen
URL:https://dorpsverenigingheiliglandstichting.nl/event/5-mei-vrijheidssoep-in-de-bosduivel/
LOCATION:Dorpshuis De Bosduivel\, Joanneslaan 4\, HLS
CATEGORIES:Activiteiten,Dorpsagenda,In en om ons dorp
ATTACH;FMTTYPE=image/png:https://dorpsverenigingheiliglandstichting.nl/wp-content/uploads/2026/04/5-mei-2026-vrijheidssoep.png
ORGANIZER;CN="Dyonne van Duren":MAILTO:dorpsvereniging@gmail.com
END:VEVENT
BEGIN:VEVENT
DTSTART;TZID=Europe/Amsterdam:20260507T193000
DTEND;TZID=Europe/Amsterdam:20260507T223000
DTSTAMP:20260420T101535
CREATED:20260129T123944Z
LAST-MODIFIED:20260129T124257Z
UID:10001741-1778182200-1778193000@dorpsverenigingheiliglandstichting.nl
SUMMARY:Nijmeegs Kamerkoor
DESCRIPTION:Op donderdag s’avonds repeteert het Nijmeegs kamerkoor in de Bosduivel.In de loop van het jaar geven zij een (gratis) concert. \nOp het programma staan hedendaagse en 17de -eeuwse Nederlandse componisten en Engelse en Franse Madrigalen uit de 16de eeuw. Het koor staat onder leiding van Gonny van der Maten. \nMeer informatie
URL:https://dorpsverenigingheiliglandstichting.nl/event/concert-nijmeegs-kamerkoor-2/2026-05-07/
LOCATION:Dorpshuis De Bosduivel (Zaal 3)
CATEGORIES:Activiteiten,clubs en verenigingen,Dorpsagenda,In en om ons dorp
ATTACH;FMTTYPE=image/jpeg:https://dorpsverenigingheiliglandstichting.nl/wp-content/uploads/2024/05/635-gf-2-1024x641-1.jpg
END:VEVENT
BEGIN:VEVENT
DTSTART;TZID=Europe/Amsterdam:20260508T140000
DTEND;TZID=Europe/Amsterdam:20260508T160000
DTSTAMP:20260420T101535
CREATED:20260127T141442Z
LAST-MODIFIED:20260127T141516Z
UID:10001694-1778248800-1778256000@dorpsverenigingheiliglandstichting.nl
SUMMARY:Wandelen in en rond Heilig Landstichting
DESCRIPTION:Komende maanden gaan we op vrijdagmiddag weer wandelen in de Heilig Landstichting. We verzamelen om 14.00 voor de Bosduivel en drinken daar na afloop koffie/thee. \n\n8 mei Bezoek Villa Sprezzatura Sophiaweg 25 o.l.v. Geert Meijer & Karin den Boer\n\nKlik hier voor het volledig programma.
URL:https://dorpsverenigingheiliglandstichting.nl/event/wandelen-in-en-rond-heilig-landstichting-3-6/
LOCATION:Dorpshuis De Bosduivel\, Joanneslaan 4\, HLS
CATEGORIES:Activiteiten,clubs en verenigingen,Dorpsagenda,In en om ons dorp
ATTACH;FMTTYPE=image/jpeg:https://dorpsverenigingheiliglandstichting.nl/wp-content/uploads/2020/05/boswandeling.jpg
ORGANIZER;CN="Annelies van Gunst":MAILTO:anneliesvgunst@gmail.com
END:VEVENT
BEGIN:VEVENT
DTSTART;TZID=Europe/Amsterdam:20260514T193000
DTEND;TZID=Europe/Amsterdam:20260514T223000
DTSTAMP:20260420T101535
CREATED:20260129T123944Z
LAST-MODIFIED:20260129T124257Z
UID:10001742-1778787000-1778797800@dorpsverenigingheiliglandstichting.nl
SUMMARY:Nijmeegs Kamerkoor
DESCRIPTION:Op donderdag s’avonds repeteert het Nijmeegs kamerkoor in de Bosduivel.In de loop van het jaar geven zij een (gratis) concert. \nOp het programma staan hedendaagse en 17de -eeuwse Nederlandse componisten en Engelse en Franse Madrigalen uit de 16de eeuw. Het koor staat onder leiding van Gonny van der Maten. \nMeer informatie
URL:https://dorpsverenigingheiliglandstichting.nl/event/concert-nijmeegs-kamerkoor-2/2026-05-14/
LOCATION:Dorpshuis De Bosduivel (Zaal 3)
CATEGORIES:Activiteiten,clubs en verenigingen,Dorpsagenda,In en om ons dorp
ATTACH;FMTTYPE=image/jpeg:https://dorpsverenigingheiliglandstichting.nl/wp-content/uploads/2024/05/635-gf-2-1024x641-1.jpg
END:VEVENT
BEGIN:VEVENT
DTSTART;TZID=Europe/Amsterdam:20260515T170000
DTEND;TZID=Europe/Amsterdam:20260515T190000
DTSTAMP:20260420T101535
CREATED:20260101T113945Z
LAST-MODIFIED:20260129T132908Z
UID:10001305-1778864400-1778871600@dorpsverenigingheiliglandstichting.nl
SUMMARY:Bosduivelcafé
DESCRIPTION:Elke derde vrijdag van de maand\, van 17:00 tot 19:00 uur is er een happy hour in de bar van de Bosduivel onder de vlag: BosduivelcaféGeen thema\, geen reserveringen\, gewoon gezellig samen de week afsluiten met een drankje\, een nootje\, en hartige snacks. Wij streven ernaar om het Bosduivelcafé te combineren met andere evenementen op het vlak van cultuur\, gezelligheid en contacten.\n\nIedereen van harte welkom.\nDe organisatie is in handen van Silvo Meulendijk en Hans Vemer. Aanhakers zijn altijd welkom.
URL:https://dorpsverenigingheiliglandstichting.nl/event/27051/2026-05-15/
LOCATION:Café HLS\, Dorpshuis De Bosduivel\, Café
CATEGORIES:Activiteiten,Dorpsagenda,In en om ons dorp
ATTACH;FMTTYPE=image/jpeg:https://dorpsverenigingheiliglandstichting.nl/wp-content/uploads/2025/01/IMG_4898.webp
ORGANIZER;CN="Silvo Meulendijk":MAILTO:smeulendijk@hotmail.com
END:VEVENT
BEGIN:VEVENT
DTSTART;TZID=Europe/Amsterdam:20260520T093000
DTEND;TZID=Europe/Amsterdam:20260520T123000
DTSTAMP:20260420T101535
CREATED:20240826T120944Z
LAST-MODIFIED:20260117T152650Z
UID:10001701-1779269400-1779280200@dorpsverenigingheiliglandstichting.nl
SUMMARY:Natuurwandeling met het Bosduiveltje
DESCRIPTION:Natuurwandeling met het Bosduiveltje\nWe wandelen vooral om de mooie natuur in de wijde omgeving van Heilig Landstichting te ontdekken onder leiding van natuurgidsen. We verzamelen om 09.30 u voor de Bosduivel om te carpoolen. Rond 12.30 u zijn we weer terug. De wandelingen zijn 3-4 km lang\, met veel oog voor natuur en cultuur. \n\nKlik hier voor informatie over het wandelprogramma \n\nKlik hier om je aan te melden bij Helen van der Ven
URL:https://dorpsverenigingheiliglandstichting.nl/event/natuurwandeling-met-het-bosduiveltje-8/2026-05-20/
LOCATION:Dorpshuis De Bosduivel\, Joanneslaan 4\, HLS
CATEGORIES:Activiteiten,clubs en verenigingen,Dorpsagenda,In en om ons dorp
ATTACH;FMTTYPE=image/jpeg:https://dorpsverenigingheiliglandstichting.nl/wp-content/uploads/2024/08/IMG_9410-2.jpg
END:VEVENT
BEGIN:VEVENT
DTSTART;TZID=Europe/Amsterdam:20260521T193000
DTEND;TZID=Europe/Amsterdam:20260521T223000
DTSTAMP:20260420T101535
CREATED:20260129T123944Z
LAST-MODIFIED:20260129T124257Z
UID:10001743-1779391800-1779402600@dorpsverenigingheiliglandstichting.nl
SUMMARY:Nijmeegs Kamerkoor
DESCRIPTION:Op donderdag s’avonds repeteert het Nijmeegs kamerkoor in de Bosduivel.In de loop van het jaar geven zij een (gratis) concert. \nOp het programma staan hedendaagse en 17de -eeuwse Nederlandse componisten en Engelse en Franse Madrigalen uit de 16de eeuw. Het koor staat onder leiding van Gonny van der Maten. \nMeer informatie
URL:https://dorpsverenigingheiliglandstichting.nl/event/concert-nijmeegs-kamerkoor-2/2026-05-21/
LOCATION:Dorpshuis De Bosduivel (Zaal 3)
CATEGORIES:Activiteiten,clubs en verenigingen,Dorpsagenda,In en om ons dorp
ATTACH;FMTTYPE=image/jpeg:https://dorpsverenigingheiliglandstichting.nl/wp-content/uploads/2024/05/635-gf-2-1024x641-1.jpg
END:VEVENT
BEGIN:VEVENT
DTSTART;TZID=Europe/Amsterdam:20260522T140000
DTEND;TZID=Europe/Amsterdam:20260522T160000
DTSTAMP:20260420T101535
CREATED:20250125T161835Z
LAST-MODIFIED:20260117T151508Z
UID:10001695-1779458400-1779465600@dorpsverenigingheiliglandstichting.nl
SUMMARY:Wandelen in en rond Heilig Landstichting
DESCRIPTION:Komende maanden gaan we op vrijdagmiddag weer wandelen in de Heilig Landstichting. We verzamelen om 14.00 voor de Bosduivel en drinken daar na afloop koffie/thee. \nKlik hier voor het volledig programma.
URL:https://dorpsverenigingheiliglandstichting.nl/event/wandelen-in-en-rond-heilig-landstichting-3/2026-05-22/
LOCATION:Dorpshuis De Bosduivel\, Joanneslaan 4\, HLS
CATEGORIES:Activiteiten,clubs en verenigingen,Dorpsagenda,In en om ons dorp
ATTACH;FMTTYPE=image/jpeg:https://dorpsverenigingheiliglandstichting.nl/wp-content/uploads/2020/05/boswandeling.jpg
ORGANIZER;CN="Annelies van Gunst":MAILTO:anneliesvgunst@gmail.com
END:VEVENT
BEGIN:VEVENT
DTSTART;TZID=Europe/Amsterdam:20260527T180000
DTEND;TZID=Europe/Amsterdam:20260527T200000
DTSTAMP:20260420T101535
CREATED:20260129T125749Z
LAST-MODIFIED:20260131T105203Z
UID:10001753-1779904800-1779912000@dorpsverenigingheiliglandstichting.nl
SUMMARY:WoonWijzer Heilig Landstichting
DESCRIPTION:WoonWijzer Heilig Landstichting\n\nNa de energie-enquête heeft die werkgroep Duurzaamheid gezocht naar mogelijkheden om kennis en ervaring over energie met elkaar te delen. \nWoonWijzer Heilig Landstichting is een team van energiecoaches en experts op het gebied van isoleren\, installeren en -op termijn- energie delen. Zij  brengen kennis\, ervaring\, capaciteit\, advies\, inspiratie en verbinding op gebied van energie en slim wonen bij elkaar\, zowel op de website als in de Bosduivel. Op 28 september 2024 werd WoonWijzer Heilig Landstichting gelanceerd door wethouder Irma van de Scheur. \nJe kunt op elke laatste woensdag van de maand tussen 18:00 en 20:00 u. terecht in de Bosduivel voor vragen en adviezen op gebied van slimmer wonen. Je kunt ook direct een afspraak maken met Peer Trepels – 06 42 81 45 87- of via woonwijzerhls@gmail.com \nMeer informatie over WoonWijzer HLS vind je HIER
URL:https://dorpsverenigingheiliglandstichting.nl/event/woonwijzer-heilig-landstichting-2/2026-05-27/
LOCATION:Dorpshuis De Bosduivel\, Joanneslaan 4\, HLS
CATEGORIES:Activiteiten,Dorpsagenda,Gemeente,In en om ons dorp
ATTACH;FMTTYPE=image/png:https://dorpsverenigingheiliglandstichting.nl/wp-content/uploads/2024/08/woonwijzer-logo-v3.png
END:VEVENT
BEGIN:VEVENT
DTSTART;TZID=Europe/Amsterdam:20260528T193000
DTEND;TZID=Europe/Amsterdam:20260528T223000
DTSTAMP:20260420T101535
CREATED:20260129T123944Z
LAST-MODIFIED:20260129T124257Z
UID:10001744-1779996600-1780007400@dorpsverenigingheiliglandstichting.nl
SUMMARY:Nijmeegs Kamerkoor
DESCRIPTION:Op donderdag s’avonds repeteert het Nijmeegs kamerkoor in de Bosduivel.In de loop van het jaar geven zij een (gratis) concert. \nOp het programma staan hedendaagse en 17de -eeuwse Nederlandse componisten en Engelse en Franse Madrigalen uit de 16de eeuw. Het koor staat onder leiding van Gonny van der Maten. \nMeer informatie
URL:https://dorpsverenigingheiliglandstichting.nl/event/concert-nijmeegs-kamerkoor-2/2026-05-28/
LOCATION:Dorpshuis De Bosduivel (Zaal 3)
CATEGORIES:Activiteiten,clubs en verenigingen,Dorpsagenda,In en om ons dorp
ATTACH;FMTTYPE=image/jpeg:https://dorpsverenigingheiliglandstichting.nl/wp-content/uploads/2024/05/635-gf-2-1024x641-1.jpg
END:VEVENT
BEGIN:VEVENT
DTSTART;TZID=Europe/Amsterdam:20260529T140000
DTEND;TZID=Europe/Amsterdam:20260529T160000
DTSTAMP:20260420T101535
CREATED:20260127T142153Z
LAST-MODIFIED:20260127T142203Z
UID:10001705-1780063200-1780070400@dorpsverenigingheiliglandstichting.nl
SUMMARY:Wandelen in en rond Heilig Landstichting
DESCRIPTION:Komende maanden gaan we op vrijdagmiddag weer wandelen in de Heilig Landstichting. We verzamelen om 14.00 voor de Bosduivel en drinken daar na afloop koffie/thee. \n\n29 mei Kennismaking met schilderen Open Atelier Bosduivel o.l.v. Coosje Brunnekreeft\n\nKlik hier voor het volledig programma.
URL:https://dorpsverenigingheiliglandstichting.nl/event/wandelen-in-en-rond-heilig-landstichting/
LOCATION:Dorpshuis De Bosduivel\, Joanneslaan 4\, HLS
CATEGORIES:Activiteiten,clubs en verenigingen,Dorpsagenda,In en om ons dorp
ATTACH;FMTTYPE=image/jpeg:https://dorpsverenigingheiliglandstichting.nl/wp-content/uploads/2020/05/boswandeling.jpg
ORGANIZER;CN="Annelies van Gunst":MAILTO:anneliesvgunst@gmail.com
END:VEVENT
END:VCALENDAR