BEGIN:VCALENDAR
VERSION:2.0
PRODID:-//Heilig Landstichting - ECPv6.15.20//NONSGML v1.0//EN
CALSCALE:GREGORIAN
METHOD:PUBLISH
X-ORIGINAL-URL:https://dorpsverenigingheiliglandstichting.nl
X-WR-CALDESC:Evenementen voor Heilig Landstichting
REFRESH-INTERVAL;VALUE=DURATION:PT1H
X-Robots-Tag:noindex
X-PUBLISHED-TTL:PT1H
BEGIN:VTIMEZONE
TZID:Europe/Amsterdam
BEGIN:DAYLIGHT
TZOFFSETFROM:+0100
TZOFFSETTO:+0200
TZNAME:CEST
DTSTART:20250330T010000
END:DAYLIGHT
BEGIN:STANDARD
TZOFFSETFROM:+0200
TZOFFSETTO:+0100
TZNAME:CET
DTSTART:20251026T010000
END:STANDARD
BEGIN:DAYLIGHT
TZOFFSETFROM:+0100
TZOFFSETTO:+0200
TZNAME:CEST
DTSTART:20260329T010000
END:DAYLIGHT
BEGIN:STANDARD
TZOFFSETFROM:+0200
TZOFFSETTO:+0100
TZNAME:CET
DTSTART:20261025T010000
END:STANDARD
BEGIN:DAYLIGHT
TZOFFSETFROM:+0100
TZOFFSETTO:+0200
TZNAME:CEST
DTSTART:20270328T010000
END:DAYLIGHT
BEGIN:STANDARD
TZOFFSETFROM:+0200
TZOFFSETTO:+0100
TZNAME:CET
DTSTART:20271031T010000
END:STANDARD
END:VTIMEZONE
BEGIN:VEVENT
DTSTART;TZID=Europe/Amsterdam:20260305T193000
DTEND;TZID=Europe/Amsterdam:20260305T223000
DTSTAMP:20260420T101534
CREATED:20260129T123944Z
LAST-MODIFIED:20260129T124257Z
UID:10001732-1772739000-1772749800@dorpsverenigingheiliglandstichting.nl
SUMMARY:Nijmeegs Kamerkoor
DESCRIPTION:Op donderdag s’avonds repeteert het Nijmeegs kamerkoor in de Bosduivel.In de loop van het jaar geven zij een (gratis) concert. \nOp het programma staan hedendaagse en 17de -eeuwse Nederlandse componisten en Engelse en Franse Madrigalen uit de 16de eeuw. Het koor staat onder leiding van Gonny van der Maten. \nMeer informatie
URL:https://dorpsverenigingheiliglandstichting.nl/event/concert-nijmeegs-kamerkoor-2/2026-03-05/
LOCATION:Dorpshuis De Bosduivel (Zaal 3)
CATEGORIES:Activiteiten,clubs en verenigingen,Dorpsagenda,In en om ons dorp
ATTACH;FMTTYPE=image/jpeg:https://dorpsverenigingheiliglandstichting.nl/wp-content/uploads/2024/05/635-gf-2-1024x641-1.jpg
END:VEVENT
BEGIN:VEVENT
DTSTART;TZID=Europe/Amsterdam:20260312T193000
DTEND;TZID=Europe/Amsterdam:20260312T223000
DTSTAMP:20260420T101534
CREATED:20260129T123944Z
LAST-MODIFIED:20260129T124257Z
UID:10001733-1773343800-1773354600@dorpsverenigingheiliglandstichting.nl
SUMMARY:Nijmeegs Kamerkoor
DESCRIPTION:Op donderdag s’avonds repeteert het Nijmeegs kamerkoor in de Bosduivel.In de loop van het jaar geven zij een (gratis) concert. \nOp het programma staan hedendaagse en 17de -eeuwse Nederlandse componisten en Engelse en Franse Madrigalen uit de 16de eeuw. Het koor staat onder leiding van Gonny van der Maten. \nMeer informatie
URL:https://dorpsverenigingheiliglandstichting.nl/event/concert-nijmeegs-kamerkoor-2/2026-03-12/
LOCATION:Dorpshuis De Bosduivel (Zaal 3)
CATEGORIES:Activiteiten,clubs en verenigingen,Dorpsagenda,In en om ons dorp
ATTACH;FMTTYPE=image/jpeg:https://dorpsverenigingheiliglandstichting.nl/wp-content/uploads/2024/05/635-gf-2-1024x641-1.jpg
END:VEVENT
BEGIN:VEVENT
DTSTART;TZID=Europe/Amsterdam:20260313T134500
DTEND;TZID=Europe/Amsterdam:20260313T160000
DTSTAMP:20260420T101534
CREATED:20260127T140702Z
LAST-MODIFIED:20260215T112530Z
UID:10001690-1773409500-1773417600@dorpsverenigingheiliglandstichting.nl
SUMMARY:Wandelen in en rond Heilig Landstichting
DESCRIPTION:Komende maanden gaan we op vrijdagmiddag weer wandelen in de Heilig Landstichting. We verzamelen om 14.00 voor de Bosduivel en drinken daar na afloop koffie/thee. \n\n13 maart Bezoek Albertinum & Dominicuskerk o.l.v. Leo Ewals\n\nLeo Ewals leidt ons rond in het Albertinum en de Dominicuskerk. Centraal staan daarbij de werken van Jac Maris. In het Albertinum\, in de kruisgang zijn twee grote keramische wandplaquettes  van Jac Maris te zien. In de Dominicuskerk zien we een tympaan boven de ingang van het priesterkoor\, diverse werken in de kapellen\, een gave Maria Boodschap boven de ingang naar de sacristie en een heel verhaal over oorlog\, wederopbouw en novenen bij een patronaal naast de deur van de pastorie. In de verbouwde kapel zijn bovendien werken van Peter Roovers te zien. \nVertrek Bosduivel: 13.45\, met auto’s. Na afloop thee/koffie in de Bosduivel. \nKosten : € 3 . Aanmelden: anneliesvgunst@gmail.com \nKlik hier voor het volledig programma.
URL:https://dorpsverenigingheiliglandstichting.nl/event/wandelen-in-en-rond-heilig-landstichting-3-2/
LOCATION:Dorpshuis De Bosduivel\, Joanneslaan 4\, HLS
CATEGORIES:Activiteiten,clubs en verenigingen,Dorpsagenda,In en om ons dorp
ATTACH;FMTTYPE=image/jpeg:https://dorpsverenigingheiliglandstichting.nl/wp-content/uploads/2020/05/boswandeling.jpg
ORGANIZER;CN="Annelies van Gunst":MAILTO:anneliesvgunst@gmail.com
END:VEVENT
BEGIN:VEVENT
DTSTART;TZID=Europe/Amsterdam:20260313T200000
DTEND;TZID=Europe/Amsterdam:20260313T213000
DTSTAMP:20260420T101534
CREATED:20260216T142342Z
LAST-MODIFIED:20260216T195146Z
UID:10001768-1773432000-1773437400@dorpsverenigingheiliglandstichting.nl
SUMMARY:Verkiezingsdebat 13 maart in De Bosduivel
DESCRIPTION:Verkiezingsdebat 13 maart in De Bosduivel \nVrijdag 13 maart organiseert de Dorpsvereniging HLS in De Bosduivel het inmiddels traditionele verkiezingsdebat met lijsttrekkers/kandidaten voor de gemeenteraadsverkiezingen. Uitgenodigd zijn: Kernachtig Groesbeek\, Lokaal!\, Groenlinks/PvdA\, D66\, CDA en VVD. Zij hebben de afgelopen vier jaren in de gemeenteraad gezeten. En dus kunnen zij zich ook verantwoorden over het gevoerde beleid\, naast het vertellen over nieuwe plannen en verkiezingsbeloften. Ze komen alle zes! \nKlik hier voor aanvullende informatie en aanmelden
URL:https://dorpsverenigingheiliglandstichting.nl/event/verkiezingsdebat13maart26-2/
LOCATION:Dorpshuis De Bosduivel\, Joanneslaan 4\, HLS
CATEGORIES:Activiteiten,clubs en verenigingen,Dorpsagenda,In en om ons dorp
ATTACH;FMTTYPE=image/jpeg:https://dorpsverenigingheiliglandstichting.nl/wp-content/uploads/2026/02/debat-cartoon-scaled.jpg
ORGANIZER;CN="Dorpsvereniging":MAILTO:dorpsvereniging@gmail.com
END:VEVENT
BEGIN:VEVENT
DTSTART;TZID=Europe/Amsterdam:20260314T100000
DTEND;TZID=Europe/Amsterdam:20260314T150000
DTSTAMP:20260420T101534
CREATED:20260217T184841Z
LAST-MODIFIED:20260222T195521Z
UID:10001769-1773482400-1773500400@dorpsverenigingheiliglandstichting.nl
SUMMARY:14 Maart: NL-DOET Klus Voor de Bosduiveltuin
DESCRIPTION:Bij onze Bosduivel kun je ook dit jaar weer gezamenlijk de mouwen opstropen en meedoen.\nVorig jaar maakten we mooie houten compostbakken\, nu is de oude picknickbank aan de beurt om vervangen te worden. \nDeze bank bij de moestuin en onder de grote beuk is de ideale ontmoetingsplek bij excursies en wandelingen die vanuit de Bosduivel starten. Ook is het een plek voor de buitenwerkers van de Bosduivel om even uit te rusten of te overleggen\, de schildergroep werkt er soms in de zomer. En misschien zit jij er gewoon soms eventjes niks te doen. \nOp zaterdag 14 maart gaan we de nieuwe picknickbank in elkaar zetten. Ben je geen timmermens? Er zijn ook allerlei andere groene buitenklusjes te doen rondom de Bosduivel. De moestuingroep zet ons aan het werk en voor materiaal en gereedschap wordt gezorgd. Je kunt een uurtje mee komen doen of wat langer blijven en mee lunchen. \nMeld je hieronder even aan zodat we weten hoeveel hulp we kunnen verwachten. \nDatum: zaterdag 14 maart\nLokatie: bij de Bosduivel\nTijd: 10:00 uur – …… \nVoor koffie\, thee en lunch wordt gezorgd
URL:https://dorpsverenigingheiliglandstichting.nl/event/nl-doet-klus2026/
LOCATION:Dorpshuis De Bosduivel\, Joanneslaan 4\, HLS
CATEGORIES:Activiteiten,Dorpsagenda,In en om ons dorp
ATTACH;FMTTYPE=image/jpeg:https://dorpsverenigingheiliglandstichting.nl/wp-content/uploads/2026/02/NLDoet2026-tafel.jpg
ORGANIZER;CN="Dorpsvereniging":MAILTO:dorpsvereniging@gmail.com
END:VEVENT
BEGIN:VEVENT
DTSTART;TZID=Europe/Amsterdam:20260314T100000
DTEND;TZID=Europe/Amsterdam:20260314T170000
DTSTAMP:20260420T101534
CREATED:20260119T090516Z
LAST-MODIFIED:20260119T091247Z
UID:10001703-1773482400-1773507600@dorpsverenigingheiliglandstichting.nl
SUMMARY:NL-DOET
DESCRIPTION:In ons dorp hebben we een prachtige dorps-moestuin die wordt onderhouden door een grote groep enthousiaste vrijwilligers. Bij de moestuin staat de huidige picknickbank op instorten. Op zaterdag 14 maart\, op NL DOET\, bouwen we met een groep vrijwilligers een nieuwe stevige picknickbank. \nDaarnaast frissen we het dorp op door een poetsbeurt van de openbare ruimte. Vrijwilligers uit het dorp werken samen aan het ontwerpen de uitvoering van de bank. Dit gebeurt met ca 6 volwassen vrijwilligers 14 maart 2026. Daarnaast werven we een ‘poetsploeg’ bestaande uit minimaal 6 vrijwilligers.
URL:https://dorpsverenigingheiliglandstichting.nl/event/nl-doet/
LOCATION:Dorpshuis De Bosduivel\, Joanneslaan 4\, HLS
CATEGORIES:Activiteiten,clubs en verenigingen,Dorpsagenda,In en om ons dorp
ATTACH;FMTTYPE=image/jpeg:https://dorpsverenigingheiliglandstichting.nl/wp-content/uploads/2026/01/7a746990-a9d6-11f0-abaa-9fbaa21ef7ef.png.jpeg
ORGANIZER;CN="Dorpsvereniging":MAILTO:dorpsvereniging@gmail.com
END:VEVENT
BEGIN:VEVENT
DTSTART;TZID=Europe/Amsterdam:20260318T093000
DTEND;TZID=Europe/Amsterdam:20260318T123000
DTSTAMP:20260420T101534
CREATED:20240826T120944Z
LAST-MODIFIED:20260117T152650Z
UID:10001699-1773826200-1773837000@dorpsverenigingheiliglandstichting.nl
SUMMARY:Natuurwandeling met het Bosduiveltje
DESCRIPTION:Natuurwandeling met het Bosduiveltje\nWe wandelen vooral om de mooie natuur in de wijde omgeving van Heilig Landstichting te ontdekken onder leiding van natuurgidsen. We verzamelen om 09.30 u voor de Bosduivel om te carpoolen. Rond 12.30 u zijn we weer terug. De wandelingen zijn 3-4 km lang\, met veel oog voor natuur en cultuur. \n\nKlik hier voor informatie over het wandelprogramma \n\nKlik hier om je aan te melden bij Helen van der Ven
URL:https://dorpsverenigingheiliglandstichting.nl/event/natuurwandeling-met-het-bosduiveltje-8/2026-03-18/
LOCATION:Dorpshuis De Bosduivel\, Joanneslaan 4\, HLS
CATEGORIES:Activiteiten,clubs en verenigingen,Dorpsagenda,In en om ons dorp
ATTACH;FMTTYPE=image/jpeg:https://dorpsverenigingheiliglandstichting.nl/wp-content/uploads/2024/08/IMG_9410-2.jpg
END:VEVENT
BEGIN:VEVENT
DTSTART;TZID=Europe/Amsterdam:20260319T193000
DTEND;TZID=Europe/Amsterdam:20260319T223000
DTSTAMP:20260420T101534
CREATED:20260129T123944Z
LAST-MODIFIED:20260129T124257Z
UID:10001734-1773948600-1773959400@dorpsverenigingheiliglandstichting.nl
SUMMARY:Nijmeegs Kamerkoor
DESCRIPTION:Op donderdag s’avonds repeteert het Nijmeegs kamerkoor in de Bosduivel.In de loop van het jaar geven zij een (gratis) concert. \nOp het programma staan hedendaagse en 17de -eeuwse Nederlandse componisten en Engelse en Franse Madrigalen uit de 16de eeuw. Het koor staat onder leiding van Gonny van der Maten. \nMeer informatie
URL:https://dorpsverenigingheiliglandstichting.nl/event/concert-nijmeegs-kamerkoor-2/2026-03-19/
LOCATION:Dorpshuis De Bosduivel (Zaal 3)
CATEGORIES:Activiteiten,clubs en verenigingen,Dorpsagenda,In en om ons dorp
ATTACH;FMTTYPE=image/jpeg:https://dorpsverenigingheiliglandstichting.nl/wp-content/uploads/2024/05/635-gf-2-1024x641-1.jpg
END:VEVENT
BEGIN:VEVENT
DTSTART;TZID=Europe/Amsterdam:20260320T170000
DTEND;TZID=Europe/Amsterdam:20260320T190000
DTSTAMP:20260420T101534
CREATED:20260101T113945Z
LAST-MODIFIED:20260129T132908Z
UID:10001303-1774026000-1774033200@dorpsverenigingheiliglandstichting.nl
SUMMARY:Bosduivelcafé
DESCRIPTION:Elke derde vrijdag van de maand\, van 17:00 tot 19:00 uur is er een happy hour in de bar van de Bosduivel onder de vlag: BosduivelcaféGeen thema\, geen reserveringen\, gewoon gezellig samen de week afsluiten met een drankje\, een nootje\, en hartige snacks. Wij streven ernaar om het Bosduivelcafé te combineren met andere evenementen op het vlak van cultuur\, gezelligheid en contacten.\n\nIedereen van harte welkom.\nDe organisatie is in handen van Silvo Meulendijk en Hans Vemer. Aanhakers zijn altijd welkom.
URL:https://dorpsverenigingheiliglandstichting.nl/event/27051/2026-03-20/
LOCATION:Café HLS\, Dorpshuis De Bosduivel\, Café
CATEGORIES:Activiteiten,Dorpsagenda,In en om ons dorp
ATTACH;FMTTYPE=image/jpeg:https://dorpsverenigingheiliglandstichting.nl/wp-content/uploads/2025/01/IMG_4898.webp
ORGANIZER;CN="Silvo Meulendijk":MAILTO:smeulendijk@hotmail.com
END:VEVENT
BEGIN:VEVENT
DTSTART;TZID=Europe/Amsterdam:20260325T180000
DTEND;TZID=Europe/Amsterdam:20260325T200000
DTSTAMP:20260420T101534
CREATED:20260129T125749Z
LAST-MODIFIED:20260131T105203Z
UID:10001751-1774461600-1774468800@dorpsverenigingheiliglandstichting.nl
SUMMARY:WoonWijzer Heilig Landstichting
DESCRIPTION:WoonWijzer Heilig Landstichting\n\nNa de energie-enquête heeft die werkgroep Duurzaamheid gezocht naar mogelijkheden om kennis en ervaring over energie met elkaar te delen. \nWoonWijzer Heilig Landstichting is een team van energiecoaches en experts op het gebied van isoleren\, installeren en -op termijn- energie delen. Zij  brengen kennis\, ervaring\, capaciteit\, advies\, inspiratie en verbinding op gebied van energie en slim wonen bij elkaar\, zowel op de website als in de Bosduivel. Op 28 september 2024 werd WoonWijzer Heilig Landstichting gelanceerd door wethouder Irma van de Scheur. \nJe kunt op elke laatste woensdag van de maand tussen 18:00 en 20:00 u. terecht in de Bosduivel voor vragen en adviezen op gebied van slimmer wonen. Je kunt ook direct een afspraak maken met Peer Trepels – 06 42 81 45 87- of via woonwijzerhls@gmail.com \nMeer informatie over WoonWijzer HLS vind je HIER
URL:https://dorpsverenigingheiliglandstichting.nl/event/woonwijzer-heilig-landstichting-2/2026-03-25/
LOCATION:Dorpshuis De Bosduivel\, Joanneslaan 4\, HLS
CATEGORIES:Activiteiten,Dorpsagenda,Gemeente,In en om ons dorp
ATTACH;FMTTYPE=image/png:https://dorpsverenigingheiliglandstichting.nl/wp-content/uploads/2024/08/woonwijzer-logo-v3.png
END:VEVENT
BEGIN:VEVENT
DTSTART;TZID=Europe/Amsterdam:20260326T193000
DTEND;TZID=Europe/Amsterdam:20260326T223000
DTSTAMP:20260420T101534
CREATED:20260129T123944Z
LAST-MODIFIED:20260129T124257Z
UID:10001735-1774553400-1774564200@dorpsverenigingheiliglandstichting.nl
SUMMARY:Nijmeegs Kamerkoor
DESCRIPTION:Op donderdag s’avonds repeteert het Nijmeegs kamerkoor in de Bosduivel.In de loop van het jaar geven zij een (gratis) concert. \nOp het programma staan hedendaagse en 17de -eeuwse Nederlandse componisten en Engelse en Franse Madrigalen uit de 16de eeuw. Het koor staat onder leiding van Gonny van der Maten. \nMeer informatie
URL:https://dorpsverenigingheiliglandstichting.nl/event/concert-nijmeegs-kamerkoor-2/2026-03-26/
LOCATION:Dorpshuis De Bosduivel (Zaal 3)
CATEGORIES:Activiteiten,clubs en verenigingen,Dorpsagenda,In en om ons dorp
ATTACH;FMTTYPE=image/jpeg:https://dorpsverenigingheiliglandstichting.nl/wp-content/uploads/2024/05/635-gf-2-1024x641-1.jpg
END:VEVENT
BEGIN:VEVENT
DTSTART;TZID=Europe/Amsterdam:20260327T140000
DTEND;TZID=Europe/Amsterdam:20260327T160000
DTSTAMP:20260420T101534
CREATED:20260127T140916Z
LAST-MODIFIED:20260319T084223Z
UID:10001691-1774620000-1774627200@dorpsverenigingheiliglandstichting.nl
SUMMARY:Wandelen in en rond Heilig Landstichting
DESCRIPTION:Komende maanden gaan we op vrijdagmiddag weer wandelen in de Heilig Landstichting. We verzamelen om 14.00 voor de Bosduivel en drinken daar na afloop koffie/thee. \n\n27 maart          Architectuur  Carmelklooster o.l.v. Marian Habets & Dorothe Derks\n\nKlik hier voor het volledig programma.
URL:https://dorpsverenigingheiliglandstichting.nl/event/wandelen-in-en-rond-heilig-landstichting-3-3/
LOCATION:Dorpshuis De Bosduivel\, Joanneslaan 4\, HLS
CATEGORIES:Activiteiten,clubs en verenigingen,Dorpsagenda,In en om ons dorp
ATTACH;FMTTYPE=image/jpeg:https://dorpsverenigingheiliglandstichting.nl/wp-content/uploads/2020/05/boswandeling.jpg
ORGANIZER;CN="Annelies van Gunst":MAILTO:anneliesvgunst@gmail.com
END:VEVENT
END:VCALENDAR