BEGIN:VCALENDAR
VERSION:2.0
PRODID:-//Heilig Landstichting - ECPv6.15.20//NONSGML v1.0//EN
CALSCALE:GREGORIAN
METHOD:PUBLISH
X-WR-CALNAME:Heilig Landstichting
X-ORIGINAL-URL:https://dorpsverenigingheiliglandstichting.nl
X-WR-CALDESC:Evenementen voor Heilig Landstichting
REFRESH-INTERVAL;VALUE=DURATION:PT1H
X-Robots-Tag:noindex
X-PUBLISHED-TTL:PT1H
BEGIN:VTIMEZONE
TZID:Europe/Amsterdam
BEGIN:DAYLIGHT
TZOFFSETFROM:+0100
TZOFFSETTO:+0200
TZNAME:CEST
DTSTART:20250330T010000
END:DAYLIGHT
BEGIN:STANDARD
TZOFFSETFROM:+0200
TZOFFSETTO:+0100
TZNAME:CET
DTSTART:20251026T010000
END:STANDARD
BEGIN:DAYLIGHT
TZOFFSETFROM:+0100
TZOFFSETTO:+0200
TZNAME:CEST
DTSTART:20260329T010000
END:DAYLIGHT
BEGIN:STANDARD
TZOFFSETFROM:+0200
TZOFFSETTO:+0100
TZNAME:CET
DTSTART:20261025T010000
END:STANDARD
BEGIN:DAYLIGHT
TZOFFSETFROM:+0100
TZOFFSETTO:+0200
TZNAME:CEST
DTSTART:20270328T010000
END:DAYLIGHT
BEGIN:STANDARD
TZOFFSETFROM:+0200
TZOFFSETTO:+0100
TZNAME:CET
DTSTART:20271031T010000
END:STANDARD
END:VTIMEZONE
BEGIN:VEVENT
DTSTART;TZID=Europe/Amsterdam:20260611T090000
DTEND;TZID=Europe/Amsterdam:20260611T110000
DTSTAMP:20260422T034438
CREATED:20260116T154509Z
LAST-MODIFIED:20260129T123519Z
UID:10001725-1781168400-1781175600@dorpsverenigingheiliglandstichting.nl
SUMMARY:Damesfit
DESCRIPTION:In de ‘Damesfit’ begeleidt Alet Dikmen vrouwen in de 55+ leeftijd naar een betere conditie. Door gebruik te maken van verschillende bewegingsdisciplines die harmonieus op elkaar aansluiten bereikt zij een fit/ontspannen resultaat waarbij persoonlijke begeleiding voorop staat. \n\n\n\nMeer informatie: Klik HIER  \nAanmelden: aletdikmen@gmail.com of via telefoon 06-81715347 \nMogelijke uitbreiding: De donderdag groep is praktisch vol!. Maar bij voldoende belangstelling wil Alet nog één of twee groepen starten in de Bosduivel op maandagochtend of vrijdagochtend. voor deze extra groepen kunnen dames zich opgeven. Het voordeel is dat gemiste lessen makkelijk kunnen worden ingehaald. \n\n\n\n 
URL:https://dorpsverenigingheiliglandstichting.nl/event/damesfit-3/2026-06-11/
CATEGORIES:Activiteiten,Cursussen,In en om ons dorp
ATTACH;FMTTYPE=image/jpeg:https://dorpsverenigingheiliglandstichting.nl/wp-content/uploads/2023/01/vrouwen-sporten-gymzaal.jpg
END:VEVENT
END:VCALENDAR