BEGIN:VCALENDAR
VERSION:2.0
PRODID:-//Heilig Landstichting - ECPv6.15.20//NONSGML v1.0//EN
CALSCALE:GREGORIAN
METHOD:PUBLISH
X-WR-CALNAME:Heilig Landstichting
X-ORIGINAL-URL:https://dorpsverenigingheiliglandstichting.nl
X-WR-CALDESC:Evenementen voor Heilig Landstichting
REFRESH-INTERVAL;VALUE=DURATION:PT1H
X-Robots-Tag:noindex
X-PUBLISHED-TTL:PT1H
BEGIN:VTIMEZONE
TZID:Europe/Amsterdam
BEGIN:DAYLIGHT
TZOFFSETFROM:+0100
TZOFFSETTO:+0200
TZNAME:CEST
DTSTART:20250330T010000
END:DAYLIGHT
BEGIN:STANDARD
TZOFFSETFROM:+0200
TZOFFSETTO:+0100
TZNAME:CET
DTSTART:20251026T010000
END:STANDARD
BEGIN:DAYLIGHT
TZOFFSETFROM:+0100
TZOFFSETTO:+0200
TZNAME:CEST
DTSTART:20260329T010000
END:DAYLIGHT
BEGIN:STANDARD
TZOFFSETFROM:+0200
TZOFFSETTO:+0100
TZNAME:CET
DTSTART:20261025T010000
END:STANDARD
BEGIN:DAYLIGHT
TZOFFSETFROM:+0100
TZOFFSETTO:+0200
TZNAME:CEST
DTSTART:20270328T010000
END:DAYLIGHT
BEGIN:STANDARD
TZOFFSETFROM:+0200
TZOFFSETTO:+0100
TZNAME:CET
DTSTART:20271031T010000
END:STANDARD
END:VTIMEZONE
BEGIN:VEVENT
DTSTART;TZID=Europe/Amsterdam:20260609T110000
DTEND;TZID=Europe/Amsterdam:20260609T120000
DTSTAMP:20260422T034437
CREATED:20260102T160056Z
LAST-MODIFIED:20260116T132738Z
UID:10001340-1781002800-1781006400@dorpsverenigingheiliglandstichting.nl
SUMMARY:Bewegen en Balans
DESCRIPTION:Elke dinsdagochtend kun je aan verschillende lessen deelnemen\, die bijdragen aan een positieve gezondheid! \n\n\n\nOp dinsdag kun je van 11:00 tot 12:00 uur meedoen aan ‘Bewegen en Balans’ functioneel bewegen voor 70+ onder leiding van Marian Schijf.\nKom gerust een keer deelnemen aan een proefles. Lijkt het je wel een uitdaging\, meld je dan aan bij Hans Bartels\, of telefonisch 06-202 45760 \nKLIK HIER VOOR EEN OVERZICHT VAN HET PROGRAMMA POSITIEVE GEZONDHEID  \n Altijd: inclusief koffie/thee na afloop
URL:https://dorpsverenigingheiliglandstichting.nl/event/gym-vereniging-50-plus-hls-2/2026-06-09/
LOCATION:Dorpshuis De Bosduivel (Zaal 3)
CATEGORIES:clubs en verenigingen,Cursussen,In en om ons dorp
ATTACH;FMTTYPE=image/jpeg:https://dorpsverenigingheiliglandstichting.nl/wp-content/uploads/2020/08/yoga-1434787_640.jpg
ORGANIZER;CN="Vereniging 50 Plus Heilig Landstichting":MAILTO:kbo.hls3@gmail.com
END:VEVENT
END:VCALENDAR