BEGIN:VCALENDAR
VERSION:2.0
PRODID:-//Heilig Landstichting - ECPv6.15.20//NONSGML v1.0//EN
CALSCALE:GREGORIAN
METHOD:PUBLISH
X-WR-CALNAME:Heilig Landstichting
X-ORIGINAL-URL:https://dorpsverenigingheiliglandstichting.nl
X-WR-CALDESC:Evenementen voor Heilig Landstichting
REFRESH-INTERVAL;VALUE=DURATION:PT1H
X-Robots-Tag:noindex
X-PUBLISHED-TTL:PT1H
BEGIN:VTIMEZONE
TZID:Europe/Amsterdam
BEGIN:DAYLIGHT
TZOFFSETFROM:+0100
TZOFFSETTO:+0200
TZNAME:CEST
DTSTART:20250330T010000
END:DAYLIGHT
BEGIN:STANDARD
TZOFFSETFROM:+0200
TZOFFSETTO:+0100
TZNAME:CET
DTSTART:20251026T010000
END:STANDARD
BEGIN:DAYLIGHT
TZOFFSETFROM:+0100
TZOFFSETTO:+0200
TZNAME:CEST
DTSTART:20260329T010000
END:DAYLIGHT
BEGIN:STANDARD
TZOFFSETFROM:+0200
TZOFFSETTO:+0100
TZNAME:CET
DTSTART:20261025T010000
END:STANDARD
BEGIN:DAYLIGHT
TZOFFSETFROM:+0100
TZOFFSETTO:+0200
TZNAME:CEST
DTSTART:20270328T010000
END:DAYLIGHT
BEGIN:STANDARD
TZOFFSETFROM:+0200
TZOFFSETTO:+0100
TZNAME:CET
DTSTART:20271031T010000
END:STANDARD
END:VTIMEZONE
BEGIN:VEVENT
DTSTART;TZID=Europe/Amsterdam:20260602T110000
DTEND;TZID=Europe/Amsterdam:20260602T120000
DTSTAMP:20260422T020725
CREATED:20260102T160056Z
LAST-MODIFIED:20260116T132738Z
UID:10001339-1780398000-1780401600@dorpsverenigingheiliglandstichting.nl
SUMMARY:Bewegen en Balans
DESCRIPTION:Elke dinsdagochtend kun je aan verschillende lessen deelnemen\, die bijdragen aan een positieve gezondheid! \n\n\n\nOp dinsdag kun je van 11:00 tot 12:00 uur meedoen aan ‘Bewegen en Balans’ functioneel bewegen voor 70+ onder leiding van Marian Schijf.\nKom gerust een keer deelnemen aan een proefles. Lijkt het je wel een uitdaging\, meld je dan aan bij Hans Bartels\, of telefonisch 06-202 45760 \nKLIK HIER VOOR EEN OVERZICHT VAN HET PROGRAMMA POSITIEVE GEZONDHEID  \n Altijd: inclusief koffie/thee na afloop
URL:https://dorpsverenigingheiliglandstichting.nl/event/gym-vereniging-50-plus-hls-2/2026-06-02/
LOCATION:Dorpshuis De Bosduivel (Zaal 3)
CATEGORIES:clubs en verenigingen,Cursussen,In en om ons dorp
ATTACH;FMTTYPE=image/jpeg:https://dorpsverenigingheiliglandstichting.nl/wp-content/uploads/2020/08/yoga-1434787_640.jpg
ORGANIZER;CN="Vereniging 50 Plus Heilig Landstichting":MAILTO:kbo.hls3@gmail.com
END:VEVENT
BEGIN:VEVENT
DTSTART;TZID=Europe/Amsterdam:20260604T090000
DTEND;TZID=Europe/Amsterdam:20260604T110000
DTSTAMP:20260422T020725
CREATED:20260116T154509Z
LAST-MODIFIED:20260129T123519Z
UID:10001724-1780563600-1780570800@dorpsverenigingheiliglandstichting.nl
SUMMARY:Damesfit
DESCRIPTION:In de ‘Damesfit’ begeleidt Alet Dikmen vrouwen in de 55+ leeftijd naar een betere conditie. Door gebruik te maken van verschillende bewegingsdisciplines die harmonieus op elkaar aansluiten bereikt zij een fit/ontspannen resultaat waarbij persoonlijke begeleiding voorop staat. \n\n\n\nMeer informatie: Klik HIER  \nAanmelden: aletdikmen@gmail.com of via telefoon 06-81715347 \nMogelijke uitbreiding: De donderdag groep is praktisch vol!. Maar bij voldoende belangstelling wil Alet nog één of twee groepen starten in de Bosduivel op maandagochtend of vrijdagochtend. voor deze extra groepen kunnen dames zich opgeven. Het voordeel is dat gemiste lessen makkelijk kunnen worden ingehaald. \n\n\n\n 
URL:https://dorpsverenigingheiliglandstichting.nl/event/damesfit-3/2026-06-04/
CATEGORIES:Activiteiten,Cursussen,In en om ons dorp
ATTACH;FMTTYPE=image/jpeg:https://dorpsverenigingheiliglandstichting.nl/wp-content/uploads/2023/01/vrouwen-sporten-gymzaal.jpg
END:VEVENT
BEGIN:VEVENT
DTSTART;TZID=Europe/Amsterdam:20260609T110000
DTEND;TZID=Europe/Amsterdam:20260609T120000
DTSTAMP:20260422T020725
CREATED:20260102T160056Z
LAST-MODIFIED:20260116T132738Z
UID:10001340-1781002800-1781006400@dorpsverenigingheiliglandstichting.nl
SUMMARY:Bewegen en Balans
DESCRIPTION:Elke dinsdagochtend kun je aan verschillende lessen deelnemen\, die bijdragen aan een positieve gezondheid! \n\n\n\nOp dinsdag kun je van 11:00 tot 12:00 uur meedoen aan ‘Bewegen en Balans’ functioneel bewegen voor 70+ onder leiding van Marian Schijf.\nKom gerust een keer deelnemen aan een proefles. Lijkt het je wel een uitdaging\, meld je dan aan bij Hans Bartels\, of telefonisch 06-202 45760 \nKLIK HIER VOOR EEN OVERZICHT VAN HET PROGRAMMA POSITIEVE GEZONDHEID  \n Altijd: inclusief koffie/thee na afloop
URL:https://dorpsverenigingheiliglandstichting.nl/event/gym-vereniging-50-plus-hls-2/2026-06-09/
LOCATION:Dorpshuis De Bosduivel (Zaal 3)
CATEGORIES:clubs en verenigingen,Cursussen,In en om ons dorp
ATTACH;FMTTYPE=image/jpeg:https://dorpsverenigingheiliglandstichting.nl/wp-content/uploads/2020/08/yoga-1434787_640.jpg
ORGANIZER;CN="Vereniging 50 Plus Heilig Landstichting":MAILTO:kbo.hls3@gmail.com
END:VEVENT
BEGIN:VEVENT
DTSTART;TZID=Europe/Amsterdam:20260611T090000
DTEND;TZID=Europe/Amsterdam:20260611T110000
DTSTAMP:20260422T020725
CREATED:20260116T154509Z
LAST-MODIFIED:20260129T123519Z
UID:10001725-1781168400-1781175600@dorpsverenigingheiliglandstichting.nl
SUMMARY:Damesfit
DESCRIPTION:In de ‘Damesfit’ begeleidt Alet Dikmen vrouwen in de 55+ leeftijd naar een betere conditie. Door gebruik te maken van verschillende bewegingsdisciplines die harmonieus op elkaar aansluiten bereikt zij een fit/ontspannen resultaat waarbij persoonlijke begeleiding voorop staat. \n\n\n\nMeer informatie: Klik HIER  \nAanmelden: aletdikmen@gmail.com of via telefoon 06-81715347 \nMogelijke uitbreiding: De donderdag groep is praktisch vol!. Maar bij voldoende belangstelling wil Alet nog één of twee groepen starten in de Bosduivel op maandagochtend of vrijdagochtend. voor deze extra groepen kunnen dames zich opgeven. Het voordeel is dat gemiste lessen makkelijk kunnen worden ingehaald. \n\n\n\n 
URL:https://dorpsverenigingheiliglandstichting.nl/event/damesfit-3/2026-06-11/
CATEGORIES:Activiteiten,Cursussen,In en om ons dorp
ATTACH;FMTTYPE=image/jpeg:https://dorpsverenigingheiliglandstichting.nl/wp-content/uploads/2023/01/vrouwen-sporten-gymzaal.jpg
END:VEVENT
BEGIN:VEVENT
DTSTART;TZID=Europe/Amsterdam:20260616T110000
DTEND;TZID=Europe/Amsterdam:20260616T120000
DTSTAMP:20260422T020725
CREATED:20260102T160056Z
LAST-MODIFIED:20260116T132738Z
UID:10001341-1781607600-1781611200@dorpsverenigingheiliglandstichting.nl
SUMMARY:Bewegen en Balans
DESCRIPTION:Elke dinsdagochtend kun je aan verschillende lessen deelnemen\, die bijdragen aan een positieve gezondheid! \n\n\n\nOp dinsdag kun je van 11:00 tot 12:00 uur meedoen aan ‘Bewegen en Balans’ functioneel bewegen voor 70+ onder leiding van Marian Schijf.\nKom gerust een keer deelnemen aan een proefles. Lijkt het je wel een uitdaging\, meld je dan aan bij Hans Bartels\, of telefonisch 06-202 45760 \nKLIK HIER VOOR EEN OVERZICHT VAN HET PROGRAMMA POSITIEVE GEZONDHEID  \n Altijd: inclusief koffie/thee na afloop
URL:https://dorpsverenigingheiliglandstichting.nl/event/gym-vereniging-50-plus-hls-2/2026-06-16/
LOCATION:Dorpshuis De Bosduivel (Zaal 3)
CATEGORIES:clubs en verenigingen,Cursussen,In en om ons dorp
ATTACH;FMTTYPE=image/jpeg:https://dorpsverenigingheiliglandstichting.nl/wp-content/uploads/2020/08/yoga-1434787_640.jpg
ORGANIZER;CN="Vereniging 50 Plus Heilig Landstichting":MAILTO:kbo.hls3@gmail.com
END:VEVENT
BEGIN:VEVENT
DTSTART;TZID=Europe/Amsterdam:20260618T090000
DTEND;TZID=Europe/Amsterdam:20260618T110000
DTSTAMP:20260422T020725
CREATED:20260116T154509Z
LAST-MODIFIED:20260129T123519Z
UID:10001726-1781773200-1781780400@dorpsverenigingheiliglandstichting.nl
SUMMARY:Damesfit
DESCRIPTION:In de ‘Damesfit’ begeleidt Alet Dikmen vrouwen in de 55+ leeftijd naar een betere conditie. Door gebruik te maken van verschillende bewegingsdisciplines die harmonieus op elkaar aansluiten bereikt zij een fit/ontspannen resultaat waarbij persoonlijke begeleiding voorop staat. \n\n\n\nMeer informatie: Klik HIER  \nAanmelden: aletdikmen@gmail.com of via telefoon 06-81715347 \nMogelijke uitbreiding: De donderdag groep is praktisch vol!. Maar bij voldoende belangstelling wil Alet nog één of twee groepen starten in de Bosduivel op maandagochtend of vrijdagochtend. voor deze extra groepen kunnen dames zich opgeven. Het voordeel is dat gemiste lessen makkelijk kunnen worden ingehaald. \n\n\n\n 
URL:https://dorpsverenigingheiliglandstichting.nl/event/damesfit-3/2026-06-18/
CATEGORIES:Activiteiten,Cursussen,In en om ons dorp
ATTACH;FMTTYPE=image/jpeg:https://dorpsverenigingheiliglandstichting.nl/wp-content/uploads/2023/01/vrouwen-sporten-gymzaal.jpg
END:VEVENT
BEGIN:VEVENT
DTSTART;TZID=Europe/Amsterdam:20260623T110000
DTEND;TZID=Europe/Amsterdam:20260623T120000
DTSTAMP:20260422T020725
CREATED:20260102T160056Z
LAST-MODIFIED:20260116T132738Z
UID:10001342-1782212400-1782216000@dorpsverenigingheiliglandstichting.nl
SUMMARY:Bewegen en Balans
DESCRIPTION:Elke dinsdagochtend kun je aan verschillende lessen deelnemen\, die bijdragen aan een positieve gezondheid! \n\n\n\nOp dinsdag kun je van 11:00 tot 12:00 uur meedoen aan ‘Bewegen en Balans’ functioneel bewegen voor 70+ onder leiding van Marian Schijf.\nKom gerust een keer deelnemen aan een proefles. Lijkt het je wel een uitdaging\, meld je dan aan bij Hans Bartels\, of telefonisch 06-202 45760 \nKLIK HIER VOOR EEN OVERZICHT VAN HET PROGRAMMA POSITIEVE GEZONDHEID  \n Altijd: inclusief koffie/thee na afloop
URL:https://dorpsverenigingheiliglandstichting.nl/event/gym-vereniging-50-plus-hls-2/2026-06-23/
LOCATION:Dorpshuis De Bosduivel (Zaal 3)
CATEGORIES:clubs en verenigingen,Cursussen,In en om ons dorp
ATTACH;FMTTYPE=image/jpeg:https://dorpsverenigingheiliglandstichting.nl/wp-content/uploads/2020/08/yoga-1434787_640.jpg
ORGANIZER;CN="Vereniging 50 Plus Heilig Landstichting":MAILTO:kbo.hls3@gmail.com
END:VEVENT
BEGIN:VEVENT
DTSTART;TZID=Europe/Amsterdam:20260625T090000
DTEND;TZID=Europe/Amsterdam:20260625T110000
DTSTAMP:20260422T020725
CREATED:20260116T154509Z
LAST-MODIFIED:20260129T123519Z
UID:10001245-1782378000-1782385200@dorpsverenigingheiliglandstichting.nl
SUMMARY:Damesfit
DESCRIPTION:In de ‘Damesfit’ begeleidt Alet Dikmen vrouwen in de 55+ leeftijd naar een betere conditie. Door gebruik te maken van verschillende bewegingsdisciplines die harmonieus op elkaar aansluiten bereikt zij een fit/ontspannen resultaat waarbij persoonlijke begeleiding voorop staat. \n\n\n\nMeer informatie: Klik HIER  \nAanmelden: aletdikmen@gmail.com of via telefoon 06-81715347 \nMogelijke uitbreiding: De donderdag groep is praktisch vol!. Maar bij voldoende belangstelling wil Alet nog één of twee groepen starten in de Bosduivel op maandagochtend of vrijdagochtend. voor deze extra groepen kunnen dames zich opgeven. Het voordeel is dat gemiste lessen makkelijk kunnen worden ingehaald. \n\n\n\n 
URL:https://dorpsverenigingheiliglandstichting.nl/event/damesfit-3/2026-06-25/
CATEGORIES:Activiteiten,Cursussen,In en om ons dorp
ATTACH;FMTTYPE=image/jpeg:https://dorpsverenigingheiliglandstichting.nl/wp-content/uploads/2023/01/vrouwen-sporten-gymzaal.jpg
END:VEVENT
BEGIN:VEVENT
DTSTART;TZID=Europe/Amsterdam:20260630T110000
DTEND;TZID=Europe/Amsterdam:20260630T120000
DTSTAMP:20260422T020725
CREATED:20260102T160056Z
LAST-MODIFIED:20260116T132738Z
UID:10001343-1782817200-1782820800@dorpsverenigingheiliglandstichting.nl
SUMMARY:Bewegen en Balans
DESCRIPTION:Elke dinsdagochtend kun je aan verschillende lessen deelnemen\, die bijdragen aan een positieve gezondheid! \n\n\n\nOp dinsdag kun je van 11:00 tot 12:00 uur meedoen aan ‘Bewegen en Balans’ functioneel bewegen voor 70+ onder leiding van Marian Schijf.\nKom gerust een keer deelnemen aan een proefles. Lijkt het je wel een uitdaging\, meld je dan aan bij Hans Bartels\, of telefonisch 06-202 45760 \nKLIK HIER VOOR EEN OVERZICHT VAN HET PROGRAMMA POSITIEVE GEZONDHEID  \n Altijd: inclusief koffie/thee na afloop
URL:https://dorpsverenigingheiliglandstichting.nl/event/gym-vereniging-50-plus-hls-2/2026-06-30/
LOCATION:Dorpshuis De Bosduivel (Zaal 3)
CATEGORIES:clubs en verenigingen,Cursussen,In en om ons dorp
ATTACH;FMTTYPE=image/jpeg:https://dorpsverenigingheiliglandstichting.nl/wp-content/uploads/2020/08/yoga-1434787_640.jpg
ORGANIZER;CN="Vereniging 50 Plus Heilig Landstichting":MAILTO:kbo.hls3@gmail.com
END:VEVENT
END:VCALENDAR