BEGIN:VCALENDAR
VERSION:2.0
PRODID:-//Heilig Landstichting - ECPv6.15.20//NONSGML v1.0//EN
CALSCALE:GREGORIAN
METHOD:PUBLISH
X-ORIGINAL-URL:https://dorpsverenigingheiliglandstichting.nl
X-WR-CALDESC:Evenementen voor Heilig Landstichting
REFRESH-INTERVAL;VALUE=DURATION:PT1H
X-Robots-Tag:noindex
X-PUBLISHED-TTL:PT1H
BEGIN:VTIMEZONE
TZID:Europe/Amsterdam
BEGIN:DAYLIGHT
TZOFFSETFROM:+0100
TZOFFSETTO:+0200
TZNAME:CEST
DTSTART:20240331T010000
END:DAYLIGHT
BEGIN:STANDARD
TZOFFSETFROM:+0200
TZOFFSETTO:+0100
TZNAME:CET
DTSTART:20241027T010000
END:STANDARD
BEGIN:DAYLIGHT
TZOFFSETFROM:+0100
TZOFFSETTO:+0200
TZNAME:CEST
DTSTART:20250330T010000
END:DAYLIGHT
BEGIN:STANDARD
TZOFFSETFROM:+0200
TZOFFSETTO:+0100
TZNAME:CET
DTSTART:20251026T010000
END:STANDARD
BEGIN:DAYLIGHT
TZOFFSETFROM:+0100
TZOFFSETTO:+0200
TZNAME:CEST
DTSTART:20260329T010000
END:DAYLIGHT
BEGIN:STANDARD
TZOFFSETFROM:+0200
TZOFFSETTO:+0100
TZNAME:CET
DTSTART:20261025T010000
END:STANDARD
END:VTIMEZONE
BEGIN:VEVENT
DTSTART;TZID=Europe/Amsterdam:20250512T140000
DTEND;TZID=Europe/Amsterdam:20251027T143000
DTSTAMP:20260420T202809
CREATED:20240819T092917Z
LAST-MODIFIED:20260116T160224Z
UID:10001131-1747058400-1761575400@dorpsverenigingheiliglandstichting.nl
SUMMARY:Bridgen met Ryks
DESCRIPTION:De bedoeling van de maandagmiddag bridgeclub onder leiding van Ryks de Jong is om in een prettige omgeving\, beter te leren bridgen en oude en nieuwe lesstof te oefenen. De basis is deel 1 en 2 van de cursus  “Vijfkaart Hoog”. Het speeltempo ligt niet hoog. Het zijn geen competitieve\, maar lerende bijeenkomsten. Het programma voor komend seizoen is vergelijkbaar met de afgelopen seizoenen. \nKlik hier voor meer informatie
URL:https://dorpsverenigingheiliglandstichting.nl/event/bridgen-met-ryks/2025-05-12/
LOCATION:Dorpshuis De Bosduivel (Zaal 3)
CATEGORIES:Activiteiten,clubs en verenigingen,In en om ons dorp
ATTACH;FMTTYPE=image/jpeg:https://dorpsverenigingheiliglandstichting.nl/wp-content/uploads/2024/05/bridge.jpg
END:VEVENT
BEGIN:VEVENT
DTSTART;TZID=Europe/Amsterdam:20250519T140000
DTEND;TZID=Europe/Amsterdam:20251103T143000
DTSTAMP:20260420T202809
CREATED:20240819T092917Z
LAST-MODIFIED:20260116T160224Z
UID:10001132-1747663200-1762180200@dorpsverenigingheiliglandstichting.nl
SUMMARY:Bridgen met Ryks
DESCRIPTION:De bedoeling van de maandagmiddag bridgeclub onder leiding van Ryks de Jong is om in een prettige omgeving\, beter te leren bridgen en oude en nieuwe lesstof te oefenen. De basis is deel 1 en 2 van de cursus  “Vijfkaart Hoog”. Het speeltempo ligt niet hoog. Het zijn geen competitieve\, maar lerende bijeenkomsten. Het programma voor komend seizoen is vergelijkbaar met de afgelopen seizoenen. \nKlik hier voor meer informatie
URL:https://dorpsverenigingheiliglandstichting.nl/event/bridgen-met-ryks/2025-05-19/
LOCATION:Dorpshuis De Bosduivel (Zaal 3)
CATEGORIES:Activiteiten,clubs en verenigingen,In en om ons dorp
ATTACH;FMTTYPE=image/jpeg:https://dorpsverenigingheiliglandstichting.nl/wp-content/uploads/2024/05/bridge.jpg
END:VEVENT
BEGIN:VEVENT
DTSTART;TZID=Europe/Amsterdam:20250526T140000
DTEND;TZID=Europe/Amsterdam:20251110T143000
DTSTAMP:20260420T202809
CREATED:20240819T092917Z
LAST-MODIFIED:20260116T160224Z
UID:10001133-1748268000-1762785000@dorpsverenigingheiliglandstichting.nl
SUMMARY:Bridgen met Ryks
DESCRIPTION:De bedoeling van de maandagmiddag bridgeclub onder leiding van Ryks de Jong is om in een prettige omgeving\, beter te leren bridgen en oude en nieuwe lesstof te oefenen. De basis is deel 1 en 2 van de cursus  “Vijfkaart Hoog”. Het speeltempo ligt niet hoog. Het zijn geen competitieve\, maar lerende bijeenkomsten. Het programma voor komend seizoen is vergelijkbaar met de afgelopen seizoenen. \nKlik hier voor meer informatie
URL:https://dorpsverenigingheiliglandstichting.nl/event/bridgen-met-ryks/2025-05-26/
LOCATION:Dorpshuis De Bosduivel (Zaal 3)
CATEGORIES:Activiteiten,clubs en verenigingen,In en om ons dorp
ATTACH;FMTTYPE=image/jpeg:https://dorpsverenigingheiliglandstichting.nl/wp-content/uploads/2024/05/bridge.jpg
END:VEVENT
BEGIN:VEVENT
DTSTART;TZID=Europe/Amsterdam:20250602T140000
DTEND;TZID=Europe/Amsterdam:20251117T143000
DTSTAMP:20260420T202809
CREATED:20240819T092917Z
LAST-MODIFIED:20260116T160224Z
UID:10001134-1748872800-1763389800@dorpsverenigingheiliglandstichting.nl
SUMMARY:Bridgen met Ryks
DESCRIPTION:De bedoeling van de maandagmiddag bridgeclub onder leiding van Ryks de Jong is om in een prettige omgeving\, beter te leren bridgen en oude en nieuwe lesstof te oefenen. De basis is deel 1 en 2 van de cursus  “Vijfkaart Hoog”. Het speeltempo ligt niet hoog. Het zijn geen competitieve\, maar lerende bijeenkomsten. Het programma voor komend seizoen is vergelijkbaar met de afgelopen seizoenen. \nKlik hier voor meer informatie
URL:https://dorpsverenigingheiliglandstichting.nl/event/bridgen-met-ryks/2025-06-02/
LOCATION:Dorpshuis De Bosduivel (Zaal 3)
CATEGORIES:Activiteiten,clubs en verenigingen,In en om ons dorp
ATTACH;FMTTYPE=image/jpeg:https://dorpsverenigingheiliglandstichting.nl/wp-content/uploads/2024/05/bridge.jpg
END:VEVENT
BEGIN:VEVENT
DTSTART;TZID=Europe/Amsterdam:20250609T140000
DTEND;TZID=Europe/Amsterdam:20251124T143000
DTSTAMP:20260420T202809
CREATED:20240819T092917Z
LAST-MODIFIED:20260116T160224Z
UID:10001135-1749477600-1763994600@dorpsverenigingheiliglandstichting.nl
SUMMARY:Bridgen met Ryks
DESCRIPTION:De bedoeling van de maandagmiddag bridgeclub onder leiding van Ryks de Jong is om in een prettige omgeving\, beter te leren bridgen en oude en nieuwe lesstof te oefenen. De basis is deel 1 en 2 van de cursus  “Vijfkaart Hoog”. Het speeltempo ligt niet hoog. Het zijn geen competitieve\, maar lerende bijeenkomsten. Het programma voor komend seizoen is vergelijkbaar met de afgelopen seizoenen. \nKlik hier voor meer informatie
URL:https://dorpsverenigingheiliglandstichting.nl/event/bridgen-met-ryks/2025-06-09/
LOCATION:Dorpshuis De Bosduivel (Zaal 3)
CATEGORIES:Activiteiten,clubs en verenigingen,In en om ons dorp
ATTACH;FMTTYPE=image/jpeg:https://dorpsverenigingheiliglandstichting.nl/wp-content/uploads/2024/05/bridge.jpg
END:VEVENT
BEGIN:VEVENT
DTSTART;TZID=Europe/Amsterdam:20250616T140000
DTEND;TZID=Europe/Amsterdam:20251201T143000
DTSTAMP:20260420T202809
CREATED:20240819T092917Z
LAST-MODIFIED:20260116T160224Z
UID:10001136-1750082400-1764599400@dorpsverenigingheiliglandstichting.nl
SUMMARY:Bridgen met Ryks
DESCRIPTION:De bedoeling van de maandagmiddag bridgeclub onder leiding van Ryks de Jong is om in een prettige omgeving\, beter te leren bridgen en oude en nieuwe lesstof te oefenen. De basis is deel 1 en 2 van de cursus  “Vijfkaart Hoog”. Het speeltempo ligt niet hoog. Het zijn geen competitieve\, maar lerende bijeenkomsten. Het programma voor komend seizoen is vergelijkbaar met de afgelopen seizoenen. \nKlik hier voor meer informatie
URL:https://dorpsverenigingheiliglandstichting.nl/event/bridgen-met-ryks/2025-06-16/
LOCATION:Dorpshuis De Bosduivel (Zaal 3)
CATEGORIES:Activiteiten,clubs en verenigingen,In en om ons dorp
ATTACH;FMTTYPE=image/jpeg:https://dorpsverenigingheiliglandstichting.nl/wp-content/uploads/2024/05/bridge.jpg
END:VEVENT
BEGIN:VEVENT
DTSTART;TZID=Europe/Amsterdam:20250623T140000
DTEND;TZID=Europe/Amsterdam:20251208T143000
DTSTAMP:20260420T202809
CREATED:20240819T092917Z
LAST-MODIFIED:20260116T160224Z
UID:10001137-1750687200-1765204200@dorpsverenigingheiliglandstichting.nl
SUMMARY:Bridgen met Ryks
DESCRIPTION:De bedoeling van de maandagmiddag bridgeclub onder leiding van Ryks de Jong is om in een prettige omgeving\, beter te leren bridgen en oude en nieuwe lesstof te oefenen. De basis is deel 1 en 2 van de cursus  “Vijfkaart Hoog”. Het speeltempo ligt niet hoog. Het zijn geen competitieve\, maar lerende bijeenkomsten. Het programma voor komend seizoen is vergelijkbaar met de afgelopen seizoenen. \nKlik hier voor meer informatie
URL:https://dorpsverenigingheiliglandstichting.nl/event/bridgen-met-ryks/2025-06-23/
LOCATION:Dorpshuis De Bosduivel (Zaal 3)
CATEGORIES:Activiteiten,clubs en verenigingen,In en om ons dorp
ATTACH;FMTTYPE=image/jpeg:https://dorpsverenigingheiliglandstichting.nl/wp-content/uploads/2024/05/bridge.jpg
END:VEVENT
BEGIN:VEVENT
DTSTART;TZID=Europe/Amsterdam:20250630T140000
DTEND;TZID=Europe/Amsterdam:20251215T143000
DTSTAMP:20260420T202809
CREATED:20240819T092917Z
LAST-MODIFIED:20260116T160224Z
UID:10001138-1751292000-1765809000@dorpsverenigingheiliglandstichting.nl
SUMMARY:Bridgen met Ryks
DESCRIPTION:De bedoeling van de maandagmiddag bridgeclub onder leiding van Ryks de Jong is om in een prettige omgeving\, beter te leren bridgen en oude en nieuwe lesstof te oefenen. De basis is deel 1 en 2 van de cursus  “Vijfkaart Hoog”. Het speeltempo ligt niet hoog. Het zijn geen competitieve\, maar lerende bijeenkomsten. Het programma voor komend seizoen is vergelijkbaar met de afgelopen seizoenen. \nKlik hier voor meer informatie
URL:https://dorpsverenigingheiliglandstichting.nl/event/bridgen-met-ryks/2025-06-30/
LOCATION:Dorpshuis De Bosduivel (Zaal 3)
CATEGORIES:Activiteiten,clubs en verenigingen,In en om ons dorp
ATTACH;FMTTYPE=image/jpeg:https://dorpsverenigingheiliglandstichting.nl/wp-content/uploads/2024/05/bridge.jpg
END:VEVENT
BEGIN:VEVENT
DTSTART;TZID=Europe/Amsterdam:20251027T193000
DTEND;TZID=Europe/Amsterdam:20251027T203000
DTSTAMP:20260420T202809
CREATED:20251017T173559Z
LAST-MODIFIED:20251025T133259Z
UID:10000909-1761593400-1761597000@dorpsverenigingheiliglandstichting.nl
SUMMARY:27 oktober: Tweede informatieavond voorzorgcirkels
DESCRIPTION:Beste dorpsgenoten HLS en leden van Vereniging 50+\, \nOp maandagavond 27 oktober van 19.30-20.30 uur organiseert de dorpsvereniging in de Bosduivel een tweede avond over voorzorgcirkels. Iedereen die geïnteresseerd is om lid te gaan worden van een voorzorgcirkel en/of bereid is een voorzorgcirkel mede te gaan oprichten is van harte welkom. Aanmelden van tevoren is niet nodig\, maar is wel welkom: dorpsvereniging@gmail.com \nOp de voorgaande bijeenkomst op 29 september werd algemene informatie besproken. Het doel op 27 oktober is om samen concrete stappen te gaan zetten. Inmiddels is aan de straatcontactpersonen van Heilig Landstichting gevraagd of zij een rol willen gaan spelen in het oprichten van een voorzorgcirkel. \nMargaret de Groot\, Marian Habets en Vera Mattijssen \nVerder lezen? \nVoorzorgcirkels | NLZVE \nhttps://www.fortewelzijn.nl/berg-en-dal/samenleven-in-de-wijk/nlzve-voorzorgcirkel/
URL:https://dorpsverenigingheiliglandstichting.nl/event/27-oktober-tweede-informatieavond-voorzorgcirkels/
CATEGORIES:Activiteiten,clubs en verenigingen,Dorpsagenda,In en om ons dorp
ATTACH;FMTTYPE=image/png:https://dorpsverenigingheiliglandstichting.nl/wp-content/uploads/2025/06/36ac7da0-a0b6-11ed-a5ae-950d3e0cbcf2.webp
END:VEVENT
END:VCALENDAR